BEGIN:VCALENDAR
VERSION:2.0
PRODID:-//Maryville College - ECPv6.15.20//NONSGML v1.0//EN
CALSCALE:GREGORIAN
METHOD:PUBLISH
X-WR-CALNAME:Maryville College
X-ORIGINAL-URL:https://www.maryvillecollege.edu
X-WR-CALDESC:Events for Maryville College
REFRESH-INTERVAL;VALUE=DURATION:PT1H
X-Robots-Tag:noindex
X-PUBLISHED-TTL:PT1H
BEGIN:VTIMEZONE
TZID:America/New_York
BEGIN:DAYLIGHT
TZOFFSETFROM:-0500
TZOFFSETTO:-0400
TZNAME:EDT
DTSTART:20240310T070000
END:DAYLIGHT
BEGIN:STANDARD
TZOFFSETFROM:-0400
TZOFFSETTO:-0500
TZNAME:EST
DTSTART:20241103T060000
END:STANDARD
BEGIN:DAYLIGHT
TZOFFSETFROM:-0500
TZOFFSETTO:-0400
TZNAME:EDT
DTSTART:20250309T070000
END:DAYLIGHT
BEGIN:STANDARD
TZOFFSETFROM:-0400
TZOFFSETTO:-0500
TZNAME:EST
DTSTART:20251102T060000
END:STANDARD
BEGIN:DAYLIGHT
TZOFFSETFROM:-0500
TZOFFSETTO:-0400
TZNAME:EDT
DTSTART:20260308T070000
END:DAYLIGHT
BEGIN:STANDARD
TZOFFSETFROM:-0400
TZOFFSETTO:-0500
TZNAME:EST
DTSTART:20261101T060000
END:STANDARD
END:VTIMEZONE
BEGIN:VEVENT
DTSTART;TZID=America/New_York:20250907T140000
DTEND;TZID=America/New_York:20250907T170000
DTSTAMP:20260425T161753
CREATED:20250821T171819Z
LAST-MODIFIED:20250903T200719Z
UID:10001031-1757253600-1757264400@www.maryvillecollege.edu
SUMMARY:Alumni Day at the Knoxville Smokies
DESCRIPTION:Join the Knox Scots alumni chapter and fellow Scots in the East Tennessee area at the new Covenant Health Park in downtown Knoxville as the Smokies take on the Rocket City Trash Pandas. \nIt’s the last home game of the season and we have discounted group tickets! \nPurchase your group rate tickets in our section now for $20.50 each (including all fees). Kids 3 and under are free.
URL:https://www.maryvillecollege.edu/event/alumni-day-at-the-knoxville-smokies/
LOCATION:Covenant Health Park\, 500 East Jackson Ave.\, Knoxville\, 37915\, United States
CATEGORIES:Alumni Office
ATTACH;FMTTYPE=image/png:https://www.maryvillecollege.edu/wp-content/uploads/Alumni/Events/2025/Alumni-Smokies-Day-final.png
END:VEVENT
END:VCALENDAR