BEGIN:VCALENDAR
VERSION:2.0
PRODID:-//Maryville College - ECPv6.15.20//NONSGML v1.0//EN
CALSCALE:GREGORIAN
METHOD:PUBLISH
X-ORIGINAL-URL:https://www.maryvillecollege.edu
X-WR-CALDESC:Events for Maryville College
REFRESH-INTERVAL;VALUE=DURATION:PT1H
X-Robots-Tag:noindex
X-PUBLISHED-TTL:PT1H
BEGIN:VTIMEZONE
TZID:America/New_York
BEGIN:DAYLIGHT
TZOFFSETFROM:-0500
TZOFFSETTO:-0400
TZNAME:EDT
DTSTART:20250309T070000
END:DAYLIGHT
BEGIN:STANDARD
TZOFFSETFROM:-0400
TZOFFSETTO:-0500
TZNAME:EST
DTSTART:20251102T060000
END:STANDARD
BEGIN:DAYLIGHT
TZOFFSETFROM:-0500
TZOFFSETTO:-0400
TZNAME:EDT
DTSTART:20260308T070000
END:DAYLIGHT
BEGIN:STANDARD
TZOFFSETFROM:-0400
TZOFFSETTO:-0500
TZNAME:EST
DTSTART:20261101T060000
END:STANDARD
BEGIN:DAYLIGHT
TZOFFSETFROM:-0500
TZOFFSETTO:-0400
TZNAME:EDT
DTSTART:20270314T070000
END:DAYLIGHT
BEGIN:STANDARD
TZOFFSETFROM:-0400
TZOFFSETTO:-0500
TZNAME:EST
DTSTART:20271107T060000
END:STANDARD
END:VTIMEZONE
BEGIN:VEVENT
DTSTART;TZID=America/New_York:20260221T130000
DTEND;TZID=America/New_York:20260221T160000
DTSTAMP:20260424T024619
CREATED:20251215T184515Z
LAST-MODIFIED:20260221T194556Z
UID:10001598-1771678800-1771689600@www.maryvillecollege.edu
SUMMARY:Baseball
DESCRIPTION:Maryville College Baseball vs Transylvania\nStreaming Video: https://team1sports.com/maryvillescots/
URL:https://www.maryvillecollege.edu/event/maryville-college-baseball-vs-wooster/
LOCATION:Oglethorpe\, GA
CATEGORIES:Athletic Events
END:VEVENT
BEGIN:VEVENT
DTSTART;TZID=America/New_York:20260221T160000
DTEND;TZID=America/New_York:20260221T190000
DTSTAMP:20260424T024619
CREATED:20251215T184515Z
LAST-MODIFIED:20260221T194556Z
UID:10001599-1771689600-1771700400@www.maryvillecollege.edu
SUMMARY:Baseball
DESCRIPTION:Maryville College Baseball vs Transylvania\nStreaming Video: https://team1sports.com/maryvillescots/
URL:https://www.maryvillecollege.edu/event/maryville-college-baseball-vs-transylvania/
LOCATION:Oglethorpe\, GA
CATEGORIES:Athletic Events
END:VEVENT
BEGIN:VEVENT
DTSTART;TZID=America/New_York:20260222T130000
DTEND;TZID=America/New_York:20260222T160000
DTSTAMP:20260424T024619
CREATED:20251215T184516Z
LAST-MODIFIED:20260222T194521Z
UID:10001600-1771765200-1771776000@www.maryvillecollege.edu
SUMMARY:Baseball
DESCRIPTION:Maryville College Baseball vs Transylvania\nStreaming Video: https://team1sports.com/maryvillescots/?B=3720134
URL:https://www.maryvillecollege.edu/event/maryville-college-baseball-vs-oglethorpe/
LOCATION:Oglethorpe\, GA
CATEGORIES:Athletic Events
END:VEVENT
BEGIN:VEVENT
DTSTART;TZID=America/New_York:20260224T153000
DTEND;TZID=America/New_York:20260224T183000
DTSTAMP:20260424T024619
CREATED:20251215T184518Z
LAST-MODIFIED:20260224T201628Z
UID:10001601-1771947000-1771957800@www.maryvillecollege.edu
SUMMARY:Baseball
DESCRIPTION:Maryville College Baseball at Berry\nStreaming Video: https://berryvikings.com/showcase?Live=826
URL:https://www.maryvillecollege.edu/event/maryville-college-baseball-at-berry/
LOCATION:Mount Berry\, GA
CATEGORIES:Athletic Events
END:VEVENT
BEGIN:VEVENT
DTSTART;TZID=America/New_York:20260228T130000
DTEND;TZID=America/New_York:20260228T160000
DTSTAMP:20260424T024619
CREATED:20251215T184519Z
LAST-MODIFIED:20260228T204546Z
UID:10001602-1772283600-1772294400@www.maryvillecollege.edu
SUMMARY:Baseball
DESCRIPTION:Maryville College Baseball vs Wittenberg\nStreaming Video: https://team1sports.com/maryvillescots/?B=3637717
URL:https://www.maryvillecollege.edu/event/maryville-college-baseball-vs-wittenberg/
LOCATION:MC Baseball Field “Scotland Yard”
CATEGORIES:Athletic Events
END:VEVENT
BEGIN:VEVENT
DTSTART;TZID=America/New_York:20260228T160000
DTEND;TZID=America/New_York:20260228T190000
DTSTAMP:20260424T024619
CREATED:20251215T184520Z
LAST-MODIFIED:20260228T204546Z
UID:10001603-1772294400-1772305200@www.maryvillecollege.edu
SUMMARY:Baseball
DESCRIPTION:Maryville College Baseball vs Wittenberg\nStreaming Video: https://team1sports.com/maryvillescots/?B=3637717
URL:https://www.maryvillecollege.edu/event/maryville-college-baseball-vs-wittenberg-2/
LOCATION:MC Baseball Field “Scotland Yard”
CATEGORIES:Athletic Events
END:VEVENT
END:VCALENDAR