BEGIN:VCALENDAR
VERSION:2.0
PRODID:-//Maryville College - ECPv6.15.20//NONSGML v1.0//EN
CALSCALE:GREGORIAN
METHOD:PUBLISH
X-ORIGINAL-URL:https://www.maryvillecollege.edu
X-WR-CALDESC:Events for Maryville College
REFRESH-INTERVAL;VALUE=DURATION:PT1H
X-Robots-Tag:noindex
X-PUBLISHED-TTL:PT1H
BEGIN:VTIMEZONE
TZID:America/New_York
BEGIN:DAYLIGHT
TZOFFSETFROM:-0500
TZOFFSETTO:-0400
TZNAME:EDT
DTSTART:20250309T070000
END:DAYLIGHT
BEGIN:STANDARD
TZOFFSETFROM:-0400
TZOFFSETTO:-0500
TZNAME:EST
DTSTART:20251102T060000
END:STANDARD
BEGIN:DAYLIGHT
TZOFFSETFROM:-0500
TZOFFSETTO:-0400
TZNAME:EDT
DTSTART:20260308T070000
END:DAYLIGHT
BEGIN:STANDARD
TZOFFSETFROM:-0400
TZOFFSETTO:-0500
TZNAME:EST
DTSTART:20261101T060000
END:STANDARD
BEGIN:DAYLIGHT
TZOFFSETFROM:-0500
TZOFFSETTO:-0400
TZNAME:EDT
DTSTART:20270314T070000
END:DAYLIGHT
BEGIN:STANDARD
TZOFFSETFROM:-0400
TZOFFSETTO:-0500
TZNAME:EST
DTSTART:20271107T060000
END:STANDARD
END:VTIMEZONE
BEGIN:VEVENT
DTSTART;TZID=America/New_York:20260423T190000
DTEND;TZID=America/New_York:20260423T220000
DTSTAMP:20260424T025424
CREATED:20251215T184540Z
LAST-MODIFIED:20260423T083020Z
UID:10001630-1776970800-1776981600@www.maryvillecollege.edu
SUMMARY:Baseball
DESCRIPTION:Maryville College Baseball at LaGrange
URL:https://www.maryvillecollege.edu/event/maryville-college-baseball-at-lagrange/
LOCATION:LaGrange\, GA
CATEGORIES:Athletic Events
END:VEVENT
BEGIN:VEVENT
DTSTART;TZID=America/New_York:20260418T150000
DTEND;TZID=America/New_York:20260418T180000
DTSTAMP:20260424T025424
CREATED:20251215T184539Z
LAST-MODIFIED:20260418T081519Z
UID:10001629-1776524400-1776535200@www.maryvillecollege.edu
SUMMARY:Baseball
DESCRIPTION:Maryville College Baseball at Covenant\nStreaming Video: https://team1sports.com/scotssports/
URL:https://www.maryvillecollege.edu/event/maryville-college-baseball-at-covenant-3/
LOCATION:Lookout Mountain\, GA
CATEGORIES:Athletic Events
END:VEVENT
BEGIN:VEVENT
DTSTART;TZID=America/New_York:20260418T120000
DTEND;TZID=America/New_York:20260418T150000
DTSTAMP:20260424T025424
CREATED:20251215T184538Z
LAST-MODIFIED:20260418T081519Z
UID:10001628-1776513600-1776524400@www.maryvillecollege.edu
SUMMARY:Baseball
DESCRIPTION:Maryville College Baseball at Covenant\nStreaming Video: https://team1sports.com/scotssports/
URL:https://www.maryvillecollege.edu/event/maryville-college-baseball-at-covenant-2/
LOCATION:Lookout Mountain\, GA
CATEGORIES:Athletic Events
END:VEVENT
BEGIN:VEVENT
DTSTART;TZID=America/New_York:20260417T150000
DTEND;TZID=America/New_York:20260417T180000
DTSTAMP:20260424T025424
CREATED:20251215T184538Z
LAST-MODIFIED:20260417T080411Z
UID:10001627-1776438000-1776448800@www.maryvillecollege.edu
SUMMARY:Baseball
DESCRIPTION:Maryville College Baseball at Covenant\nStreaming Video: https://team1sports.com/scotssports/
URL:https://www.maryvillecollege.edu/event/maryville-college-baseball-at-covenant/
LOCATION:Lookout Mountain\, GA
CATEGORIES:Athletic Events
END:VEVENT
BEGIN:VEVENT
DTSTART;TZID=America/New_York:20260414T150000
DTEND;TZID=America/New_York:20260414T180000
DTSTAMP:20260424T025424
CREATED:20251215T184537Z
LAST-MODIFIED:20260414T080023Z
UID:10001626-1776178800-1776189600@www.maryvillecollege.edu
SUMMARY:Baseball
DESCRIPTION:Maryville College Baseball vs Rhodes\nStreaming Video: https://team1sports.com/maryvillescots/?B=3637728
URL:https://www.maryvillecollege.edu/event/maryville-college-baseball-vs-rhodes-2/
LOCATION:MC Baseball Field “Scotland Yard”
CATEGORIES:Athletic Events
END:VEVENT
BEGIN:VEVENT
DTSTART;TZID=America/New_York:20260414T120000
DTEND;TZID=America/New_York:20260414T150000
DTSTAMP:20260424T025424
CREATED:20251215T184536Z
LAST-MODIFIED:20260414T080022Z
UID:10001625-1776168000-1776178800@www.maryvillecollege.edu
SUMMARY:Baseball
DESCRIPTION:Maryville College Baseball vs Rhodes\nStreaming Video: https://team1sports.com/maryvillescots/?B=3637728
URL:https://www.maryvillecollege.edu/event/maryville-college-baseball-vs-rhodes/
LOCATION:MC Baseball Field “Scotland Yard”
CATEGORIES:Athletic Events
END:VEVENT
BEGIN:VEVENT
DTSTART;TZID=America/New_York:20260411T160000
DTEND;TZID=America/New_York:20260411T190000
DTSTAMP:20260424T025424
CREATED:20251215T184536Z
LAST-MODIFIED:20260411T080019Z
UID:10001624-1775923200-1775934000@www.maryvillecollege.edu
SUMMARY:Baseball
DESCRIPTION:Maryville College Baseball at Asbury\nStreaming Video: https://www.asburysportsdigitalnetwork.com/
URL:https://www.maryvillecollege.edu/event/maryville-college-baseball-at-asbury-3/
LOCATION:Wilmore\, KY
CATEGORIES:Athletic Events
END:VEVENT
BEGIN:VEVENT
DTSTART;TZID=America/New_York:20260411T130000
DTEND;TZID=America/New_York:20260411T160000
DTSTAMP:20260424T025424
CREATED:20251215T184535Z
LAST-MODIFIED:20260411T080018Z
UID:10001623-1775912400-1775923200@www.maryvillecollege.edu
SUMMARY:Baseball
DESCRIPTION:Maryville College Baseball at Asbury\nStreaming Video: https://www.asburysportsdigitalnetwork.com/
URL:https://www.maryvillecollege.edu/event/maryville-college-baseball-at-asbury-2/
LOCATION:Wilmore\, KY
CATEGORIES:Athletic Events
END:VEVENT
BEGIN:VEVENT
DTSTART;TZID=America/New_York:20260410T180000
DTEND;TZID=America/New_York:20260410T210000
DTSTAMP:20260424T025424
CREATED:20251215T184534Z
LAST-MODIFIED:20260410T080030Z
UID:10001622-1775844000-1775854800@www.maryvillecollege.edu
SUMMARY:Baseball
DESCRIPTION:Maryville College Baseball at Asbury\nStreaming Video: https://www.asburysportsdigitalnetwork.com/
URL:https://www.maryvillecollege.edu/event/maryville-college-baseball-at-asbury/
LOCATION:Wilmore\, KY
CATEGORIES:Athletic Events
END:VEVENT
BEGIN:VEVENT
DTSTART;TZID=America/New_York:20260407T000000
DTEND;TZID=America/New_York:20260407T235959
DTSTAMP:20260424T025424
CREATED:20251215T184533Z
LAST-MODIFIED:20260406T234645Z
UID:10001621-1775520000-1775606399@www.maryvillecollege.edu
SUMMARY:Baseball
DESCRIPTION:Maryville College Baseball at Sewanee\nStreaming Video: https://sewaneetigers.com/showcase?Live=875
URL:https://www.maryvillecollege.edu/event/maryville-college-baseball-at-sewanee/
LOCATION:Sewanee\, TN
CATEGORIES:Athletic Events
END:VEVENT
BEGIN:VEVENT
DTSTART;TZID=America/New_York:20260403T000000
DTEND;TZID=America/New_York:20260404T235959
DTSTAMP:20260424T025424
CREATED:20251215T184531Z
LAST-MODIFIED:20260403T231638Z
UID:10001618-1775174400-1775347199@www.maryvillecollege.edu
SUMMARY:Baseball - Senior Weekend
DESCRIPTION:Maryville College Baseball vs Huntingdon – Senior Weekend\nStreaming Video: https://team1sports.com/maryvillescots/?B=3637726
URL:https://www.maryvillecollege.edu/event/maryville-college-baseball-vs-huntingdon-senior-weekend/
LOCATION:MC Baseball Field “Scotland Yard”
CATEGORIES:Athletic Events
END:VEVENT
BEGIN:VEVENT
DTSTART;TZID=America/New_York:20260331T150000
DTEND;TZID=America/New_York:20260331T180000
DTSTAMP:20260424T025424
CREATED:20251215T184531Z
LAST-MODIFIED:20260330T224514Z
UID:10001617-1774969200-1774980000@www.maryvillecollege.edu
SUMMARY:Baseball
DESCRIPTION:Maryville College Baseball vs Sewanee\nStreaming Video: https://team1sports.com/maryvillescots/?B=3637725
URL:https://www.maryvillecollege.edu/event/maryville-college-baseball-vs-sewanee/
LOCATION:MC Baseball Field “Scotland Yard”
CATEGORIES:Athletic Events
END:VEVENT
BEGIN:VEVENT
DTSTART;TZID=America/New_York:20260328T150000
DTEND;TZID=America/New_York:20260328T180000
DTSTAMP:20260424T025424
CREATED:20251215T184529Z
LAST-MODIFIED:20260327T223021Z
UID:10001615-1774710000-1774720800@www.maryvillecollege.edu
SUMMARY:Baseball
DESCRIPTION:Maryville College Baseball at ETBU\nStreaming Video: https://goetbutigers.com/watch/
URL:https://www.maryvillecollege.edu/event/maryville-college-baseball-at-etbu-2/
LOCATION:Marshall\, TX
CATEGORIES:Athletic Events
END:VEVENT
BEGIN:VEVENT
DTSTART;TZID=America/New_York:20260328T120000
DTEND;TZID=America/New_York:20260328T150000
DTSTAMP:20260424T025424
CREATED:20251215T184530Z
LAST-MODIFIED:20260327T223020Z
UID:10001616-1774699200-1774710000@www.maryvillecollege.edu
SUMMARY:Baseball
DESCRIPTION:Maryville College Baseball at ETBU\nStreaming Video: https://goetbutigers.com/watch/?Archive=12&type=Live
URL:https://www.maryvillecollege.edu/event/maryville-college-baseball-at-etbu-3/
LOCATION:Marshall\, TX
CATEGORIES:Athletic Events
END:VEVENT
BEGIN:VEVENT
DTSTART;TZID=America/New_York:20260327T180000
DTEND;TZID=America/New_York:20260327T210000
DTSTAMP:20260424T025424
CREATED:20251215T184529Z
LAST-MODIFIED:20260327T223019Z
UID:10001614-1774634400-1774645200@www.maryvillecollege.edu
SUMMARY:Baseball
DESCRIPTION:Maryville College Baseball at ETBU\nStreaming Video: https://goetbutigers.com/watch/?Archive=12&type=Live
URL:https://www.maryvillecollege.edu/event/maryville-college-baseball-at-etbu/
LOCATION:Marshall\, TX
CATEGORIES:Athletic Events
END:VEVENT
BEGIN:VEVENT
DTSTART;TZID=America/New_York:20260324T150000
DTEND;TZID=America/New_York:20260324T180000
DTSTAMP:20260424T025424
CREATED:20251215T184527Z
LAST-MODIFIED:20260323T221522Z
UID:10001613-1774364400-1774375200@www.maryvillecollege.edu
SUMMARY:Baseball
DESCRIPTION:Maryville College Baseball vs Berry\nStreaming Video: https://team1sports.com/maryvillescots/?B=3637724
URL:https://www.maryvillecollege.edu/event/maryville-college-baseball-vs-berry/
LOCATION:MC Baseball Field “Scotland Yard”
CATEGORIES:Athletic Events
END:VEVENT
BEGIN:VEVENT
DTSTART;TZID=America/New_York:20260321T150000
DTEND;TZID=America/New_York:20260321T180000
DTSTAMP:20260424T025424
CREATED:20251215T184527Z
LAST-MODIFIED:20260320T220022Z
UID:10001612-1774105200-1774116000@www.maryvillecollege.edu
SUMMARY:Baseball
DESCRIPTION:Maryville College Baseball at Belhaven\nStreaming Video: https://blazers.belhaven.edu/showcase?Live=918
URL:https://www.maryvillecollege.edu/event/maryville-college-baseball-at-belhaven-3/
LOCATION:Jackson\, MS
CATEGORIES:Athletic Events
END:VEVENT
BEGIN:VEVENT
DTSTART;TZID=America/New_York:20260321T120000
DTEND;TZID=America/New_York:20260321T150000
DTSTAMP:20260424T025424
CREATED:20251215T184526Z
LAST-MODIFIED:20260320T220021Z
UID:10001611-1774094400-1774105200@www.maryvillecollege.edu
SUMMARY:Baseball
DESCRIPTION:Maryville College Baseball at Belhaven\nStreaming Video: https://blazers.belhaven.edu/showcase?Live=917
URL:https://www.maryvillecollege.edu/event/maryville-college-baseball-at-belhaven-2/
LOCATION:Jackson\, MS
CATEGORIES:Athletic Events
END:VEVENT
BEGIN:VEVENT
DTSTART;TZID=America/New_York:20260320T190000
DTEND;TZID=America/New_York:20260320T220000
DTSTAMP:20260424T025424
CREATED:20251215T184524Z
LAST-MODIFIED:20260320T220021Z
UID:10001610-1774033200-1774044000@www.maryvillecollege.edu
SUMMARY:Baseball
DESCRIPTION:Maryville College Baseball at Belhaven\nStreaming Video: https://blazers.belhaven.edu/showcase?Live=916
URL:https://www.maryvillecollege.edu/event/maryville-college-baseball-at-belhaven/
LOCATION:Jackson\, MS
CATEGORIES:Athletic Events
END:VEVENT
BEGIN:VEVENT
DTSTART;TZID=America/New_York:20260315T130000
DTEND;TZID=America/New_York:20260315T160000
DTSTAMP:20260424T025424
CREATED:20251215T184523Z
LAST-MODIFIED:20260314T214517Z
UID:10001609-1773579600-1773590400@www.maryvillecollege.edu
SUMMARY:Baseball - Alumni Weekend - 150th Celebration
DESCRIPTION:Maryville College Baseball vs Piedmont  – Alumni Weekend – 150th Season Celebration
URL:https://www.maryvillecollege.edu/event/maryville-college-baseball-vs-piedmont-alumni-weekend-150th-season-celebration-3/
LOCATION:MC Baseball Field “Scotland Yard”
CATEGORIES:Athletic Events
END:VEVENT
BEGIN:VEVENT
DTSTART;TZID=America/New_York:20260314T140000
DTEND;TZID=America/New_York:20260314T170000
DTSTAMP:20260424T025424
CREATED:20251215T184523Z
LAST-MODIFIED:20260313T214535Z
UID:10001608-1773496800-1773507600@www.maryvillecollege.edu
SUMMARY:Baseball - Alumni Weekend - 150th Celebration
DESCRIPTION:Maryville College Baseball vs Piedmont  – Alumni Weekend – 150th Season Celebration
URL:https://www.maryvillecollege.edu/event/maryville-college-baseball-vs-piedmont-alumni-weekend-150th-season-celebration-2/
LOCATION:MC Baseball Field “Scotland Yard”
CATEGORIES:Athletic Events
END:VEVENT
BEGIN:VEVENT
DTSTART;TZID=America/New_York:20260313T180000
DTEND;TZID=America/New_York:20260313T210000
DTSTAMP:20260424T025424
CREATED:20251215T184522Z
LAST-MODIFIED:20260313T214535Z
UID:10001607-1773424800-1773435600@www.maryvillecollege.edu
SUMMARY:Baseball - Alumni Weekend - 150th Celebration
DESCRIPTION:Maryville College Baseball vs Piedmont  – Alumni Weekend – 150th Season Celebration
URL:https://www.maryvillecollege.edu/event/maryville-college-baseball-vs-piedmont-alumni-weekend-150th-season-celebration/
LOCATION:MC Baseball Field “Scotland Yard”
CATEGORIES:Athletic Events
END:VEVENT
BEGIN:VEVENT
DTSTART;TZID=America/New_York:20260306T170000
DTEND;TZID=America/New_York:20260306T200000
DTSTAMP:20260424T025424
CREATED:20251215T184522Z
LAST-MODIFIED:20260306T211535Z
UID:10001606-1772816400-1772827200@www.maryvillecollege.edu
SUMMARY:Baseball
DESCRIPTION:Maryville College Baseball vs Montclair State\nStreaming Video: https://www.youtube.com/@GreensboroCollegeAthletics/streams
URL:https://www.maryvillecollege.edu/event/maryville-college-baseball-vs-greensboro-adrian-montclair-state/
LOCATION:Greensboro\, NC
CATEGORIES:Athletic Events
END:VEVENT
BEGIN:VEVENT
DTSTART;TZID=America/New_York:20260304T140000
DTEND;TZID=America/New_York:20260304T170000
DTSTAMP:20260424T025424
CREATED:20251215T184521Z
LAST-MODIFIED:20260304T210019Z
UID:10001605-1772632800-1772643600@www.maryvillecollege.edu
SUMMARY:Baseball
DESCRIPTION:Maryville College Baseball vs Lynchburg\nStreaming Video: https://team1sports.com/maryvillescots/?B=3637719
URL:https://www.maryvillecollege.edu/event/maryville-college-baseball-vs-lynchburg/
LOCATION:MC Baseball Field “Scotland Yard”
CATEGORIES:Athletic Events
END:VEVENT
BEGIN:VEVENT
DTSTART;TZID=America/New_York:20260301T130000
DTEND;TZID=America/New_York:20260301T160000
DTSTAMP:20260424T025424
CREATED:20251215T184520Z
LAST-MODIFIED:20260228T204547Z
UID:10001604-1772370000-1772380800@www.maryvillecollege.edu
SUMMARY:Baseball
DESCRIPTION:Maryville College Baseball vs Wittenberg\nStreaming Video: https://team1sports.com/maryvillescots/?B=3637718
URL:https://www.maryvillecollege.edu/event/maryville-college-baseball-vs-wittenberg-3/
LOCATION:MC Baseball Field “Scotland Yard”
CATEGORIES:Athletic Events
END:VEVENT
BEGIN:VEVENT
DTSTART;TZID=America/New_York:20260228T160000
DTEND;TZID=America/New_York:20260228T190000
DTSTAMP:20260424T025424
CREATED:20251215T184520Z
LAST-MODIFIED:20260228T204546Z
UID:10001603-1772294400-1772305200@www.maryvillecollege.edu
SUMMARY:Baseball
DESCRIPTION:Maryville College Baseball vs Wittenberg\nStreaming Video: https://team1sports.com/maryvillescots/?B=3637717
URL:https://www.maryvillecollege.edu/event/maryville-college-baseball-vs-wittenberg-2/
LOCATION:MC Baseball Field “Scotland Yard”
CATEGORIES:Athletic Events
END:VEVENT
BEGIN:VEVENT
DTSTART;TZID=America/New_York:20260228T130000
DTEND;TZID=America/New_York:20260228T160000
DTSTAMP:20260424T025424
CREATED:20251215T184519Z
LAST-MODIFIED:20260228T204546Z
UID:10001602-1772283600-1772294400@www.maryvillecollege.edu
SUMMARY:Baseball
DESCRIPTION:Maryville College Baseball vs Wittenberg\nStreaming Video: https://team1sports.com/maryvillescots/?B=3637717
URL:https://www.maryvillecollege.edu/event/maryville-college-baseball-vs-wittenberg/
LOCATION:MC Baseball Field “Scotland Yard”
CATEGORIES:Athletic Events
END:VEVENT
BEGIN:VEVENT
DTSTART;TZID=America/New_York:20260224T153000
DTEND;TZID=America/New_York:20260224T183000
DTSTAMP:20260424T025424
CREATED:20251215T184518Z
LAST-MODIFIED:20260224T201628Z
UID:10001601-1771947000-1771957800@www.maryvillecollege.edu
SUMMARY:Baseball
DESCRIPTION:Maryville College Baseball at Berry\nStreaming Video: https://berryvikings.com/showcase?Live=826
URL:https://www.maryvillecollege.edu/event/maryville-college-baseball-at-berry/
LOCATION:Mount Berry\, GA
CATEGORIES:Athletic Events
END:VEVENT
BEGIN:VEVENT
DTSTART;TZID=America/New_York:20260222T130000
DTEND;TZID=America/New_York:20260222T160000
DTSTAMP:20260424T025424
CREATED:20251215T184516Z
LAST-MODIFIED:20260222T194521Z
UID:10001600-1771765200-1771776000@www.maryvillecollege.edu
SUMMARY:Baseball
DESCRIPTION:Maryville College Baseball vs Transylvania\nStreaming Video: https://team1sports.com/maryvillescots/?B=3720134
URL:https://www.maryvillecollege.edu/event/maryville-college-baseball-vs-oglethorpe/
LOCATION:Oglethorpe\, GA
CATEGORIES:Athletic Events
END:VEVENT
BEGIN:VEVENT
DTSTART;TZID=America/New_York:20260221T160000
DTEND;TZID=America/New_York:20260221T190000
DTSTAMP:20260424T025424
CREATED:20251215T184515Z
LAST-MODIFIED:20260221T194556Z
UID:10001599-1771689600-1771700400@www.maryvillecollege.edu
SUMMARY:Baseball
DESCRIPTION:Maryville College Baseball vs Transylvania\nStreaming Video: https://team1sports.com/maryvillescots/
URL:https://www.maryvillecollege.edu/event/maryville-college-baseball-vs-transylvania/
LOCATION:Oglethorpe\, GA
CATEGORIES:Athletic Events
END:VEVENT
END:VCALENDAR