BEGIN:VCALENDAR
VERSION:2.0
PRODID:-//Maryville College - ECPv6.15.20//NONSGML v1.0//EN
CALSCALE:GREGORIAN
METHOD:PUBLISH
X-ORIGINAL-URL:https://www.maryvillecollege.edu
X-WR-CALDESC:Events for Maryville College
REFRESH-INTERVAL;VALUE=DURATION:PT1H
X-Robots-Tag:noindex
X-PUBLISHED-TTL:PT1H
BEGIN:VTIMEZONE
TZID:America/New_York
BEGIN:DAYLIGHT
TZOFFSETFROM:-0500
TZOFFSETTO:-0400
TZNAME:EDT
DTSTART:20250309T070000
END:DAYLIGHT
BEGIN:STANDARD
TZOFFSETFROM:-0400
TZOFFSETTO:-0500
TZNAME:EST
DTSTART:20251102T060000
END:STANDARD
BEGIN:DAYLIGHT
TZOFFSETFROM:-0500
TZOFFSETTO:-0400
TZNAME:EDT
DTSTART:20260308T070000
END:DAYLIGHT
BEGIN:STANDARD
TZOFFSETFROM:-0400
TZOFFSETTO:-0500
TZNAME:EST
DTSTART:20261101T060000
END:STANDARD
BEGIN:DAYLIGHT
TZOFFSETFROM:-0500
TZOFFSETTO:-0400
TZNAME:EDT
DTSTART:20270314T070000
END:DAYLIGHT
BEGIN:STANDARD
TZOFFSETFROM:-0400
TZOFFSETTO:-0500
TZNAME:EST
DTSTART:20271107T060000
END:STANDARD
END:VTIMEZONE
BEGIN:VEVENT
DTSTART;TZID=America/New_York:20260421T131500
DTEND;TZID=America/New_York:20260421T135000
DTSTAMP:20260421T171806
CREATED:20250728T191548Z
LAST-MODIFIED:20260421T171515Z
UID:10000593-1776777300-1776779400@www.maryvillecollege.edu
SUMMARY:Chapel
DESCRIPTION:
URL:https://www.maryvillecollege.edu/event/chapel-28/
LOCATION:Center for Campus Ministry (CCM)
CATEGORIES:Center for Campus Ministry
END:VEVENT
BEGIN:VEVENT
DTSTART;TZID=America/New_York:20260414T131500
DTEND;TZID=America/New_York:20260414T135000
DTSTAMP:20260421T171806
CREATED:20250728T191548Z
LAST-MODIFIED:20260414T170016Z
UID:10000592-1776172500-1776174600@www.maryvillecollege.edu
SUMMARY:Chapel
DESCRIPTION:
URL:https://www.maryvillecollege.edu/event/chapel-27/
LOCATION:Center for Campus Ministry (CCM)
CATEGORIES:Center for Campus Ministry
END:VEVENT
BEGIN:VEVENT
DTSTART;TZID=America/New_York:20260407T131500
DTEND;TZID=America/New_York:20260407T135000
DTSTAMP:20260421T171806
CREATED:20250728T191547Z
LAST-MODIFIED:20260407T170114Z
UID:10000591-1775567700-1775569800@www.maryvillecollege.edu
SUMMARY:Chapel
DESCRIPTION:
URL:https://www.maryvillecollege.edu/event/chapel-26/
LOCATION:Center for Campus Ministry (CCM)
CATEGORIES:Center for Campus Ministry
END:VEVENT
BEGIN:VEVENT
DTSTART;TZID=America/New_York:20260331T131500
DTEND;TZID=America/New_York:20260331T135000
DTSTAMP:20260421T171806
CREATED:20250728T191545Z
LAST-MODIFIED:20260331T164531Z
UID:10000588-1774962900-1774965000@www.maryvillecollege.edu
SUMMARY:Chapel
DESCRIPTION:
URL:https://www.maryvillecollege.edu/event/chapel-25/
LOCATION:Center for Campus Ministry (CCM)
CATEGORIES:Center for Campus Ministry
END:VEVENT
BEGIN:VEVENT
DTSTART;TZID=America/New_York:20260324T131500
DTEND;TZID=America/New_York:20260324T135000
DTSTAMP:20260421T171806
CREATED:20250728T191544Z
LAST-MODIFIED:20260324T164525Z
UID:10000586-1774358100-1774360200@www.maryvillecollege.edu
SUMMARY:Chapel
DESCRIPTION:
URL:https://www.maryvillecollege.edu/event/chapel-24/
LOCATION:Center for Campus Ministry (CCM)
CATEGORIES:Center for Campus Ministry
END:VEVENT
BEGIN:VEVENT
DTSTART;TZID=America/New_York:20260310T131500
DTEND;TZID=America/New_York:20260310T135000
DTSTAMP:20260421T171806
CREATED:20250728T191542Z
LAST-MODIFIED:20260310T164519Z
UID:10000584-1773148500-1773150600@www.maryvillecollege.edu
SUMMARY:Chapel
DESCRIPTION:
URL:https://www.maryvillecollege.edu/event/chapel-23/
LOCATION:Center for Campus Ministry (CCM)
CATEGORIES:Center for Campus Ministry
END:VEVENT
BEGIN:VEVENT
DTSTART;TZID=America/New_York:20260303T131500
DTEND;TZID=America/New_York:20260303T135000
DTSTAMP:20260421T171806
CREATED:20250728T191541Z
LAST-MODIFIED:20260303T163029Z
UID:10000582-1772543700-1772545800@www.maryvillecollege.edu
SUMMARY:Chapel
DESCRIPTION:
URL:https://www.maryvillecollege.edu/event/chapel-22/
LOCATION:Center for Campus Ministry (CCM)
CATEGORIES:Center for Campus Ministry
END:VEVENT
BEGIN:VEVENT
DTSTART;TZID=America/New_York:20260302T160000
DTEND;TZID=America/New_York:20260302T170000
DTSTAMP:20260421T171806
CREATED:20250909T141237Z
LAST-MODIFIED:20260224T163050Z
UID:10001236-1772467200-1772470800@www.maryvillecollege.edu
SUMMARY:Bible Study
DESCRIPTION:
URL:https://www.maryvillecollege.edu/event/bible-study-39/
LOCATION:Maryville College\, Maryville\, TN\, 37804\, United States
CATEGORIES:Center for Campus Ministry
END:VEVENT
BEGIN:VEVENT
DTSTART;TZID=America/New_York:20260227T110000
DTEND;TZID=America/New_York:20260227T120000
DTSTAMP:20260421T171806
CREATED:20250909T141237Z
LAST-MODIFIED:20260224T163049Z
UID:10001235-1772190000-1772193600@www.maryvillecollege.edu
SUMMARY:Bible Study
DESCRIPTION:
URL:https://www.maryvillecollege.edu/event/bible-study-38/
LOCATION:Maryville College\, Maryville\, TN\, 37804\, United States
CATEGORIES:Center for Campus Ministry
END:VEVENT
BEGIN:VEVENT
DTSTART;TZID=America/New_York:20260226T160000
DTEND;TZID=America/New_York:20260226T170000
DTSTAMP:20260421T171806
CREATED:20250909T141236Z
LAST-MODIFIED:20260224T163048Z
UID:10001234-1772121600-1772125200@www.maryvillecollege.edu
SUMMARY:Jam Session
DESCRIPTION:
URL:https://www.maryvillecollege.edu/event/jam-session-19/
LOCATION:Maryville College\, Maryville\, TN\, 37804\, United States
CATEGORIES:Center for Campus Ministry
END:VEVENT
BEGIN:VEVENT
DTSTART;TZID=America/New_York:20260224T170000
DTEND;TZID=America/New_York:20260224T180000
DTSTAMP:20260421T171806
CREATED:20250903T213123Z
LAST-MODIFIED:20250918T145358Z
UID:10001221-1771952400-1771956000@www.maryvillecollege.edu
SUMMARY:World Cup Coffee
DESCRIPTION:
URL:https://www.maryvillecollege.edu/event/world-cup-coffee-35/
LOCATION:Center for Campus Ministry (CCM)
CATEGORIES:Center for Campus Ministry,Global Engagement Events
END:VEVENT
BEGIN:VEVENT
DTSTART;TZID=America/New_York:20260224T131500
DTEND;TZID=America/New_York:20260224T135000
DTSTAMP:20260421T171806
CREATED:20250728T191539Z
LAST-MODIFIED:20260224T163047Z
UID:10000580-1771938900-1771941000@www.maryvillecollege.edu
SUMMARY:Chapel
DESCRIPTION:
URL:https://www.maryvillecollege.edu/event/chapel-21/
LOCATION:Center for Campus Ministry (CCM)
CATEGORIES:Center for Campus Ministry
END:VEVENT
BEGIN:VEVENT
DTSTART;TZID=America/New_York:20260223T160000
DTEND;TZID=America/New_York:20260223T170000
DTSTAMP:20260421T171806
CREATED:20250903T213122Z
LAST-MODIFIED:20260217T154521Z
UID:10001220-1771862400-1771866000@www.maryvillecollege.edu
SUMMARY:Bible Study
DESCRIPTION:
URL:https://www.maryvillecollege.edu/event/bible-study-37/
LOCATION:Maryville College\, Maryville\, TN\, 37804\, United States
CATEGORIES:Center for Campus Ministry
END:VEVENT
BEGIN:VEVENT
DTSTART;TZID=America/New_York:20260220T110000
DTEND;TZID=America/New_York:20260220T120000
DTSTAMP:20260421T171806
CREATED:20250903T213121Z
LAST-MODIFIED:20260217T154520Z
UID:10001219-1771585200-1771588800@www.maryvillecollege.edu
SUMMARY:Bible Study
DESCRIPTION:
URL:https://www.maryvillecollege.edu/event/bible-study-36/
LOCATION:Maryville College\, Maryville\, TN\, 37804\, United States
CATEGORIES:Center for Campus Ministry
END:VEVENT
BEGIN:VEVENT
DTSTART;TZID=America/New_York:20260219T160000
DTEND;TZID=America/New_York:20260219T170000
DTSTAMP:20260421T171806
CREATED:20250903T213121Z
LAST-MODIFIED:20260217T154520Z
UID:10001218-1771516800-1771520400@www.maryvillecollege.edu
SUMMARY:Jam Session
DESCRIPTION:
URL:https://www.maryvillecollege.edu/event/jam-session-18/
LOCATION:Maryville College\, Maryville\, TN\, 37804\, United States
CATEGORIES:Center for Campus Ministry
END:VEVENT
BEGIN:VEVENT
DTSTART;TZID=America/New_York:20260217T170000
DTEND;TZID=America/New_York:20260217T180000
DTSTAMP:20260421T171806
CREATED:20250903T213120Z
LAST-MODIFIED:20250918T145358Z
UID:10001217-1771347600-1771351200@www.maryvillecollege.edu
SUMMARY:World Cup Coffee
DESCRIPTION:
URL:https://www.maryvillecollege.edu/event/world-cup-coffee-34/
LOCATION:Center for Campus Ministry (CCM)
CATEGORIES:Center for Campus Ministry,Global Engagement Events
END:VEVENT
BEGIN:VEVENT
DTSTART;TZID=America/New_York:20260217T131500
DTEND;TZID=America/New_York:20260217T135000
DTSTAMP:20260421T171806
CREATED:20250728T191537Z
LAST-MODIFIED:20260217T154518Z
UID:10000578-1771334100-1771336200@www.maryvillecollege.edu
SUMMARY:Chapel
DESCRIPTION:
URL:https://www.maryvillecollege.edu/event/chapel-20/
LOCATION:Center for Campus Ministry (CCM)
CATEGORIES:Center for Campus Ministry
END:VEVENT
BEGIN:VEVENT
DTSTART;TZID=America/New_York:20260216T160000
DTEND;TZID=America/New_York:20260216T170000
DTSTAMP:20260421T171806
CREATED:20250903T213118Z
LAST-MODIFIED:20260210T153101Z
UID:10001216-1771257600-1771261200@www.maryvillecollege.edu
SUMMARY:Bible Study
DESCRIPTION:
URL:https://www.maryvillecollege.edu/event/bible-study-35/
LOCATION:Maryville College\, Maryville\, TN\, 37804\, United States
CATEGORIES:Center for Campus Ministry
END:VEVENT
BEGIN:VEVENT
DTSTART;TZID=America/New_York:20260213T110000
DTEND;TZID=America/New_York:20260213T120000
DTSTAMP:20260421T171806
CREATED:20250903T213118Z
LAST-MODIFIED:20260210T153100Z
UID:10001215-1770980400-1770984000@www.maryvillecollege.edu
SUMMARY:Bible Study
DESCRIPTION:
URL:https://www.maryvillecollege.edu/event/bible-study-34/
LOCATION:Maryville College\, Maryville\, TN\, 37804\, United States
CATEGORIES:Center for Campus Ministry
END:VEVENT
BEGIN:VEVENT
DTSTART;TZID=America/New_York:20260212T160000
DTEND;TZID=America/New_York:20260212T170000
DTSTAMP:20260421T171806
CREATED:20250903T213117Z
LAST-MODIFIED:20260210T153059Z
UID:10001214-1770912000-1770915600@www.maryvillecollege.edu
SUMMARY:Jam Session
DESCRIPTION:
URL:https://www.maryvillecollege.edu/event/jam-session-17/
LOCATION:Maryville College\, Maryville\, TN\, 37804\, United States
CATEGORIES:Center for Campus Ministry
END:VEVENT
BEGIN:VEVENT
DTSTART;TZID=America/New_York:20260210T170000
DTEND;TZID=America/New_York:20260210T180000
DTSTAMP:20260421T171806
CREATED:20250903T213116Z
LAST-MODIFIED:20250918T145358Z
UID:10001213-1770742800-1770746400@www.maryvillecollege.edu
SUMMARY:World Cup Coffee
DESCRIPTION:
URL:https://www.maryvillecollege.edu/event/world-cup-coffee-33/
LOCATION:Center for Campus Ministry (CCM)
CATEGORIES:Center for Campus Ministry,Global Engagement Events
END:VEVENT
BEGIN:VEVENT
DTSTART;TZID=America/New_York:20260210T131500
DTEND;TZID=America/New_York:20260210T135000
DTSTAMP:20260421T171806
CREATED:20250728T191537Z
LAST-MODIFIED:20260210T153059Z
UID:10000577-1770729300-1770731400@www.maryvillecollege.edu
SUMMARY:Chapel
DESCRIPTION:
URL:https://www.maryvillecollege.edu/event/chapel-19/
LOCATION:Center for Campus Ministry (CCM)
CATEGORIES:Center for Campus Ministry
END:VEVENT
BEGIN:VEVENT
DTSTART;TZID=America/New_York:20260209T160000
DTEND;TZID=America/New_York:20260209T170000
DTSTAMP:20260421T171806
CREATED:20250903T213115Z
LAST-MODIFIED:20260203T153019Z
UID:10001212-1770652800-1770656400@www.maryvillecollege.edu
SUMMARY:Bible Study
DESCRIPTION:
URL:https://www.maryvillecollege.edu/event/bible-study-33/
LOCATION:Maryville College\, Maryville\, TN\, 37804\, United States
CATEGORIES:Center for Campus Ministry
END:VEVENT
BEGIN:VEVENT
DTSTART;TZID=America/New_York:20260206T110000
DTEND;TZID=America/New_York:20260206T120000
DTSTAMP:20260421T171806
CREATED:20250903T213114Z
LAST-MODIFIED:20260203T153019Z
UID:10001211-1770375600-1770379200@www.maryvillecollege.edu
SUMMARY:Bible Study
DESCRIPTION:
URL:https://www.maryvillecollege.edu/event/bible-study-32/
LOCATION:Maryville College\, Maryville\, TN\, 37804\, United States
CATEGORIES:Center for Campus Ministry
END:VEVENT
BEGIN:VEVENT
DTSTART;TZID=America/New_York:20260205T160000
DTEND;TZID=America/New_York:20260205T170000
DTSTAMP:20260421T171806
CREATED:20250903T213114Z
LAST-MODIFIED:20260203T153018Z
UID:10001210-1770307200-1770310800@www.maryvillecollege.edu
SUMMARY:Jam Session
DESCRIPTION:
URL:https://www.maryvillecollege.edu/event/jam-session-16/
LOCATION:Maryville College\, Maryville\, TN\, 37804\, United States
CATEGORIES:Center for Campus Ministry
END:VEVENT
BEGIN:VEVENT
DTSTART;TZID=America/New_York:20260203T170000
DTEND;TZID=America/New_York:20260203T180000
DTSTAMP:20260421T171806
CREATED:20250903T213113Z
LAST-MODIFIED:20250918T145358Z
UID:10001209-1770138000-1770141600@www.maryvillecollege.edu
SUMMARY:World Cup Coffee
DESCRIPTION:
URL:https://www.maryvillecollege.edu/event/world-cup-coffee-32/
LOCATION:Center for Campus Ministry (CCM)
CATEGORIES:Center for Campus Ministry,Global Engagement Events
END:VEVENT
BEGIN:VEVENT
DTSTART;TZID=America/New_York:20260203T131500
DTEND;TZID=America/New_York:20260203T135000
DTSTAMP:20260421T171806
CREATED:20250728T191536Z
LAST-MODIFIED:20260203T153017Z
UID:10000576-1770124500-1770126600@www.maryvillecollege.edu
SUMMARY:Chapel
DESCRIPTION:
URL:https://www.maryvillecollege.edu/event/chapel-18/
LOCATION:Center for Campus Ministry (CCM)
CATEGORIES:Center for Campus Ministry
END:VEVENT
BEGIN:VEVENT
DTSTART;TZID=America/New_York:20260202T160000
DTEND;TZID=America/New_York:20260202T170000
DTSTAMP:20260421T171806
CREATED:20250903T213112Z
LAST-MODIFIED:20260202T140840Z
UID:10001208-1770048000-1770051600@www.maryvillecollege.edu
SUMMARY:CANCELED: Bible Study
DESCRIPTION:
URL:https://www.maryvillecollege.edu/event/bible-study-31/
LOCATION:Maryville College\, Maryville\, TN\, 37804\, United States
CATEGORIES:Center for Campus Ministry
END:VEVENT
BEGIN:VEVENT
DTSTART;TZID=America/New_York:20260130T110000
DTEND;TZID=America/New_York:20260130T120000
DTSTAMP:20260421T171806
CREATED:20250903T213111Z
LAST-MODIFIED:20260127T153016Z
UID:10001207-1769770800-1769774400@www.maryvillecollege.edu
SUMMARY:Bible Study
DESCRIPTION:
URL:https://www.maryvillecollege.edu/event/bible-study-30/
LOCATION:Maryville College\, Maryville\, TN\, 37804\, United States
CATEGORIES:Center for Campus Ministry
END:VEVENT
BEGIN:VEVENT
DTSTART;TZID=America/New_York:20260129T160000
DTEND;TZID=America/New_York:20260129T170000
DTSTAMP:20260421T171806
CREATED:20250903T213110Z
LAST-MODIFIED:20260127T153015Z
UID:10001206-1769702400-1769706000@www.maryvillecollege.edu
SUMMARY:Jam Session
DESCRIPTION:
URL:https://www.maryvillecollege.edu/event/jam-session-15/
LOCATION:Maryville College\, Maryville\, TN\, 37804\, United States
CATEGORIES:Center for Campus Ministry
END:VEVENT
END:VCALENDAR