BEGIN:VCALENDAR
VERSION:2.0
PRODID:-//Maryville College - ECPv6.15.20//NONSGML v1.0//EN
CALSCALE:GREGORIAN
METHOD:PUBLISH
X-WR-CALNAME:Maryville College
X-ORIGINAL-URL:https://www.maryvillecollege.edu
X-WR-CALDESC:Events for Maryville College
REFRESH-INTERVAL;VALUE=DURATION:PT1H
X-Robots-Tag:noindex
X-PUBLISHED-TTL:PT1H
BEGIN:VTIMEZONE
TZID:America/New_York
BEGIN:DAYLIGHT
TZOFFSETFROM:-0500
TZOFFSETTO:-0400
TZNAME:EDT
DTSTART:20250309T070000
END:DAYLIGHT
BEGIN:STANDARD
TZOFFSETFROM:-0400
TZOFFSETTO:-0500
TZNAME:EST
DTSTART:20251102T060000
END:STANDARD
BEGIN:DAYLIGHT
TZOFFSETFROM:-0500
TZOFFSETTO:-0400
TZNAME:EDT
DTSTART:20260308T070000
END:DAYLIGHT
BEGIN:STANDARD
TZOFFSETFROM:-0400
TZOFFSETTO:-0500
TZNAME:EST
DTSTART:20261101T060000
END:STANDARD
BEGIN:DAYLIGHT
TZOFFSETFROM:-0500
TZOFFSETTO:-0400
TZNAME:EDT
DTSTART:20270314T070000
END:DAYLIGHT
BEGIN:STANDARD
TZOFFSETFROM:-0400
TZOFFSETTO:-0500
TZNAME:EST
DTSTART:20271107T060000
END:STANDARD
END:VTIMEZONE
BEGIN:VEVENT
DTSTART;TZID=America/New_York:20260131T160000
DTEND;TZID=America/New_York:20260131T180000
DTSTAMP:20260422T062922
CREATED:20250721T162249Z
LAST-MODIFIED:20260217T164514Z
UID:10000161-1769875200-1769882400@www.maryvillecollege.edu
SUMMARY:Men's Basketball - Unicycle Performers Night
DESCRIPTION:Maryville College Men’s Basketball vs LaGrange – Senior Day & Unicycle Performers Night\nStreaming Video: https://team1sports.com/maryvillescots/\nTickets: https://fan.hudl.com/tickets/VGlja2V0ZWRFdmVudDY4ZWZlMTMwZDAyZGM4Yjk5NjE0ZmU3OA==
URL:https://www.maryvillecollege.edu/event/maryville-college-mens-basketball-vs-lagrange/
LOCATION:Cooper Athletic Center
CATEGORIES:Athletic Events
END:VEVENT
END:VCALENDAR