BEGIN:VCALENDAR
VERSION:2.0
PRODID:-//Maryville College - ECPv6.15.20//NONSGML v1.0//EN
CALSCALE:GREGORIAN
METHOD:PUBLISH
X-WR-CALNAME:Maryville College
X-ORIGINAL-URL:https://www.maryvillecollege.edu
X-WR-CALDESC:Events for Maryville College
REFRESH-INTERVAL;VALUE=DURATION:PT1H
X-Robots-Tag:noindex
X-PUBLISHED-TTL:PT1H
BEGIN:VTIMEZONE
TZID:America/New_York
BEGIN:DAYLIGHT
TZOFFSETFROM:-0500
TZOFFSETTO:-0400
TZNAME:EDT
DTSTART:20240310T070000
END:DAYLIGHT
BEGIN:STANDARD
TZOFFSETFROM:-0400
TZOFFSETTO:-0500
TZNAME:EST
DTSTART:20241103T060000
END:STANDARD
BEGIN:DAYLIGHT
TZOFFSETFROM:-0500
TZOFFSETTO:-0400
TZNAME:EDT
DTSTART:20250309T070000
END:DAYLIGHT
BEGIN:STANDARD
TZOFFSETFROM:-0400
TZOFFSETTO:-0500
TZNAME:EST
DTSTART:20251102T060000
END:STANDARD
BEGIN:DAYLIGHT
TZOFFSETFROM:-0500
TZOFFSETTO:-0400
TZNAME:EDT
DTSTART:20260308T070000
END:DAYLIGHT
BEGIN:STANDARD
TZOFFSETFROM:-0400
TZOFFSETTO:-0500
TZNAME:EST
DTSTART:20261101T060000
END:STANDARD
BEGIN:DAYLIGHT
TZOFFSETFROM:-0500
TZOFFSETTO:-0400
TZNAME:EDT
DTSTART:20270314T070000
END:DAYLIGHT
BEGIN:STANDARD
TZOFFSETFROM:-0400
TZOFFSETTO:-0500
TZNAME:EST
DTSTART:20271107T060000
END:STANDARD
END:VTIMEZONE
BEGIN:VEVENT
DTSTART;TZID=America/New_York:20260306T180000
DTEND;TZID=America/New_York:20260404T235900
DTSTAMP:20260422T014026
CREATED:20250923T124534Z
LAST-MODIFIED:20260227T154522Z
UID:10001326-1772820000-1775347140@www.maryvillecollege.edu
SUMMARY:Men's Basketball NCAA Division III Championship
DESCRIPTION:Maryville College Men’s Basketball vs NCAA Division III Championship
URL:https://www.maryvillecollege.edu/event/maryville-college-mens-basketball-vs-ncaa-division-iii-championship/
CATEGORIES:Athletic Events
END:VEVENT
BEGIN:VEVENT
DTSTART;VALUE=DATE:20260224
DTEND;VALUE=DATE:20260301
DTSTAMP:20260422T014026
CREATED:20250923T124532Z
LAST-MODIFIED:20260227T154521Z
UID:10001325-1771891200-1772323199@www.maryvillecollege.edu
SUMMARY:Men's Basketball Conference Championship
DESCRIPTION:Maryville College Men’s Basketball vs CCS Championship
URL:https://www.maryvillecollege.edu/event/maryville-college-mens-basketball-vs-ccs-championship/
LOCATION:Higher Seed
CATEGORIES:Athletic Events
END:VEVENT
BEGIN:VEVENT
DTSTART;TZID=America/New_York:20260221T160000
DTEND;TZID=America/New_York:20260221T180000
DTSTAMP:20260422T014026
CREATED:20250721T162254Z
LAST-MODIFIED:20260221T153017Z
UID:10000165-1771689600-1771696800@www.maryvillecollege.edu
SUMMARY:Men's Basketball
DESCRIPTION:Maryville College Men’s Basketball at Piedmont\nStreaming Video: https://www.youtube.com/live/IW7OqTMAUlE
URL:https://www.maryvillecollege.edu/event/maryville-college-mens-basketball-at-piedmont/
CATEGORIES:Athletic Events
END:VEVENT
BEGIN:VEVENT
DTSTART;TZID=America/New_York:20260207T160000
DTEND;TZID=America/New_York:20260207T180000
DTSTAMP:20260422T014026
CREATED:20250721T162252Z
LAST-MODIFIED:20260207T150018Z
UID:10000163-1770480000-1770487200@www.maryvillecollege.edu
SUMMARY:Men's Basketball
DESCRIPTION:Maryville College Men’s Basketball at Belhaven\nStreaming Video: https://blazers.belhaven.edu/watch/?Live=882&type=Live
URL:https://www.maryvillecollege.edu/event/maryville-college-mens-basketball-at-belhaven/
CATEGORIES:Athletic Events
END:VEVENT
BEGIN:VEVENT
DTSTART;TZID=America/New_York:20260203T190000
DTEND;TZID=America/New_York:20260203T210000
DTSTAMP:20260422T014026
CREATED:20250721T162251Z
LAST-MODIFIED:20260203T144935Z
UID:10000162-1770145200-1770152400@www.maryvillecollege.edu
SUMMARY:Men's Basketball
DESCRIPTION:Maryville College Men’s Basketball vs Covenant\nStreaming Video: https://team1sports.com/maryvillescots/\nTickets: https://fan.hudl.com/tickets/VGlja2V0ZWRFdmVudDY4ZWZlMTMwZDAyZGM4Yjk5NjE0ZmU3Nw==
URL:https://www.maryvillecollege.edu/event/maryville-college-mens-basketball-vs-covenant/
LOCATION:Cooper Athletic Center
CATEGORIES:Athletic Events
END:VEVENT
BEGIN:VEVENT
DTSTART;TZID=America/New_York:20260131T160000
DTEND;TZID=America/New_York:20260131T180000
DTSTAMP:20260422T014026
CREATED:20250721T162249Z
LAST-MODIFIED:20260217T164514Z
UID:10000161-1769875200-1769882400@www.maryvillecollege.edu
SUMMARY:Men's Basketball - Unicycle Performers Night
DESCRIPTION:Maryville College Men’s Basketball vs LaGrange – Senior Day & Unicycle Performers Night\nStreaming Video: https://team1sports.com/maryvillescots/\nTickets: https://fan.hudl.com/tickets/VGlja2V0ZWRFdmVudDY4ZWZlMTMwZDAyZGM4Yjk5NjE0ZmU3OA==
URL:https://www.maryvillecollege.edu/event/maryville-college-mens-basketball-vs-lagrange/
LOCATION:Cooper Athletic Center
CATEGORIES:Athletic Events
END:VEVENT
BEGIN:VEVENT
DTSTART;TZID=America/New_York:20260124T160000
DTEND;TZID=America/New_York:20260124T180000
DTSTAMP:20260422T014026
CREATED:20250721T162249Z
LAST-MODIFIED:20260213T151610Z
UID:10000160-1769270400-1769277600@www.maryvillecollege.edu
SUMMARY:Men's Basketball
DESCRIPTION:Maryville College Men’s Basketball vs Huntingdon\nStreaming Video: https://team1sports.com/maryvillescots/\nTickets: https://fan.hudl.com/tickets/VGlja2V0ZWRFdmVudDY4ZWZlMTMwMzg0NGMyMTk4NDk1MDczYg==
URL:https://www.maryvillecollege.edu/event/maryville-college-mens-basketball-vs-huntingdon/
LOCATION:Cooper Athletic Center
CATEGORIES:Athletic Events
END:VEVENT
BEGIN:VEVENT
DTSTART;TZID=America/New_York:20260120T190000
DTEND;TZID=America/New_York:20260120T210000
DTSTAMP:20260422T014026
CREATED:20250721T162248Z
LAST-MODIFIED:20260120T134526Z
UID:10000159-1768935600-1768942800@www.maryvillecollege.edu
SUMMARY:Men's Basketball
DESCRIPTION:Maryville College Men’s Basketball at Covenant\nStreaming Video: https://team1sports.com/scotssports/?B=2912975
URL:https://www.maryvillecollege.edu/event/maryville-college-mens-basketball-at-covenant/
LOCATION:Lookout Mountain\, GA
CATEGORIES:Athletic Events
END:VEVENT
BEGIN:VEVENT
DTSTART;TZID=America/New_York:20260117T160000
DTEND;TZID=America/New_York:20260117T180000
DTSTAMP:20260422T014026
CREATED:20250721T162247Z
LAST-MODIFIED:20260114T205007Z
UID:10000158-1768665600-1768672800@www.maryvillecollege.edu
SUMMARY:Men's Basketball  - Blount County Schools Weekend
DESCRIPTION:Maryville College Men’s Basketball vs Belhaven – Blount County Schools Weekend\nStreaming Video: https://team1sports.com/maryvillescots/\nTickets: https://fan.hudl.com/tickets/VGlja2V0ZWRFdmVudDY4ZWZlMTMwMzg0NGMyMTk4NDk1MDczYw==
URL:https://www.maryvillecollege.edu/event/maryville-college-mens-basketball-vs-belhaven/
LOCATION:Cooper Athletic Center
CATEGORIES:Athletic Events
END:VEVENT
BEGIN:VEVENT
DTSTART;TZID=America/New_York:20260113T190000
DTEND;TZID=America/New_York:20260113T210000
DTSTAMP:20260422T014026
CREATED:20250721T162246Z
LAST-MODIFIED:20260113T133015Z
UID:10000156-1768330800-1768338000@www.maryvillecollege.edu
SUMMARY:Men's Basketball
DESCRIPTION:Maryville College Men’s Basketball at Asbury\nStreaming Video: https://www.asburysportsdigitalnetwork.com/?B=2465373
URL:https://www.maryvillecollege.edu/event/maryville-college-mens-basketball-at-asbury/
CATEGORIES:Athletic Events
END:VEVENT
BEGIN:VEVENT
DTSTART;TZID=America/New_York:20260103T160000
DTEND;TZID=America/New_York:20260103T180000
DTSTAMP:20260422T014026
CREATED:20250721T162245Z
LAST-MODIFIED:20251230T133026Z
UID:10000155-1767456000-1767463200@www.maryvillecollege.edu
SUMMARY:Men's Basketball
DESCRIPTION:Maryville College Men’s Basketball at LaGrange\nStreaming Video: https://fan.hudl.com/usa/ga/lagrange/organization/23348/la-grange-college/team/737312/mens-varsity-basketball/video
URL:https://www.maryvillecollege.edu/event/maryville-college-mens-basketball-at-lagrange/
LOCATION:LaGrange\, GA
CATEGORIES:Athletic Events
END:VEVENT
BEGIN:VEVENT
DTSTART;TZID=America/New_York:20260102T180000
DTEND;TZID=America/New_York:20260102T200000
DTSTAMP:20260422T014026
CREATED:20250721T162244Z
LAST-MODIFIED:20260109T215452Z
UID:10000154-1767376800-1767384000@www.maryvillecollege.edu
SUMMARY:Men's Basketball
DESCRIPTION:Maryville College Men’s Basketball at Huntingdon\nStreaming Video: https://boxcast.tv/view/basketball-double-header-v-maryville-umyoocq7psmfcgefy7fj
URL:https://www.maryvillecollege.edu/event/maryville-college-mens-basketball-at-huntingdon/
CATEGORIES:Athletic Events
END:VEVENT
BEGIN:VEVENT
DTSTART;TZID=America/New_York:20251230T140000
DTEND;TZID=America/New_York:20251230T160000
DTSTAMP:20260422T014026
CREATED:20250721T162241Z
LAST-MODIFIED:20260109T221627Z
UID:10000152-1767103200-1767110400@www.maryvillecollege.edu
SUMMARY:Men's Basketball
DESCRIPTION:Maryville College Men’s Basketball vs Bates\nStreaming Video: https://go.flocollege.com/partner/uaa?utm_medium=partner&utm_source=multiple&utm_content=landingpage&contract_id=006px000005mtotyaw
URL:https://www.maryvillecollege.edu/event/maryville-college-mens-basketball-at-emory/
LOCATION:Atlanta\, GA
CATEGORIES:Athletic Events
END:VEVENT
BEGIN:VEVENT
DTSTART;TZID=America/New_York:20251229T140000
DTEND;TZID=America/New_York:20251229T160000
DTSTAMP:20260422T014026
CREATED:20250721T162243Z
LAST-MODIFIED:20251223T133013Z
UID:10000153-1767016800-1767024000@www.maryvillecollege.edu
SUMMARY:Men's Basketball
DESCRIPTION:Maryville College Men’s Basketball vs Hampden-Sydney\nStreaming Video: https://flosports.link/3ImCTyy
URL:https://www.maryvillecollege.edu/event/maryville-college-mens-basketball-vs-hampden-sydney/
LOCATION:Atlanta\, GA
CATEGORIES:Athletic Events
END:VEVENT
BEGIN:VEVENT
DTSTART;TZID=America/New_York:20251206T160000
DTEND;TZID=America/New_York:20251206T180000
DTSTAMP:20260422T014026
CREATED:20251202T131519Z
LAST-MODIFIED:20260217T164514Z
UID:10001436-1765036800-1765044000@www.maryvillecollege.edu
SUMMARY:Men's Basketball
DESCRIPTION:Maryville College Men’s Basketball vs Covenant Vs. Johnson & Wales (NC) – Renasant Bank Employee Appreciation Week & John Sevier Elementary Day\nStreaming Video: https://team1sports.com/maryvillescots/?B=3170680\nTickets: https://fan.hudl.com/tickets/VGlja2V0ZWRFdmVudDY4ZWZlMTMwYjM1OGUwYTkwZGYxY2JiNw==
URL:https://www.maryvillecollege.edu/event/maryville-college-mens-basketball-vs-covenant-vs-johnson-wales-nc-renasant-bank-employee-appreciation-week-john-sevier-elementary-day/
LOCATION:Cooper Athletic Center
CATEGORIES:Athletic Events
END:VEVENT
BEGIN:VEVENT
DTSTART;TZID=America/New_York:20251206T140000
DTEND;TZID=America/New_York:20251206T160000
DTSTAMP:20260422T014026
CREATED:20250721T162241Z
LAST-MODIFIED:20260217T164514Z
UID:10000151-1765029600-1765036800@www.maryvillecollege.edu
SUMMARY:Men's Basketball
DESCRIPTION:Maryville College Men’s Basketball vs East Texas Baptist – Renasant Bank Employee Appreciation Week & John Sevier Elementary Day\nStreaming Video: https://team1sports.com/maryvillescots/\nTickets: https://fan.hudl.com/tickets/VGlja2V0ZWRFdmVudDY4ZWZlMTMwYjM1OGUwYTkwZGYxY2JiNw==
URL:https://www.maryvillecollege.edu/event/maryville-college-mens-basketball-vs-east-texas-baptist/
LOCATION:Cooper Athletic Center
CATEGORIES:Athletic Events
END:VEVENT
BEGIN:VEVENT
DTSTART;TZID=America/New_York:20251205T190000
DTEND;TZID=America/New_York:20251205T210000
DTSTAMP:20260422T014026
CREATED:20250721T162240Z
LAST-MODIFIED:20260109T221627Z
UID:10000150-1764961200-1764968400@www.maryvillecollege.edu
SUMMARY:Men's Basketball
DESCRIPTION:Maryville College Men’s Basketball vs Johnson & Wales (N.C.) – Renasant Bank Employee Appreciation Week\nStreaming Video: https://team1sports.com/maryvillescots/\nTickets: https://fan.hudl.com/tickets/VGlja2V0ZWRFdmVudDY4ZWZlMTMwMzg0NGMyMTk4NDk1MDczZQ==
URL:https://www.maryvillecollege.edu/event/maryville-college-mens-basketball-vs-johnson-wales-n-c/
LOCATION:Cooper Athletic Center
CATEGORIES:Athletic Events
END:VEVENT
BEGIN:VEVENT
DTSTART;TZID=America/New_York:20251205T170000
DTEND;TZID=America/New_York:20251205T190000
DTSTAMP:20260422T014026
CREATED:20251202T131517Z
LAST-MODIFIED:20260116T205130Z
UID:10001435-1764954000-1764961200@www.maryvillecollege.edu
SUMMARY:Men's Basketball
DESCRIPTION:Maryville College Men’s Basketball vs East Texas Baptist Vs. Covenant – Renasant Bank Employee Appreciation Week\nStreaming Video: https://team1sports.com/maryvillescots/?B=3170694\nTickets: https://fan.hudl.com/tickets/VGlja2V0ZWRFdmVudDY4ZWZlMTMwMzg0NGMyMTk4NDk1MDczZQ==
URL:https://www.maryvillecollege.edu/event/maryville-college-mens-basketball-vs-east-texas-baptist-vs-covenant-renasant-bank-employee-appreciation-week/
LOCATION:Cooper Athletic Center
CATEGORIES:Athletic Events
END:VEVENT
BEGIN:VEVENT
DTSTART;TZID=America/New_York:20251124T190000
DTEND;TZID=America/New_York:20251124T210000
DTSTAMP:20260422T014026
CREATED:20250721T162239Z
LAST-MODIFIED:20251124T203310Z
UID:10000149-1764010800-1764018000@www.maryvillecollege.edu
SUMMARY:Men's Basketball
DESCRIPTION:Maryville College Men’s Basketball vs Hanover – John Sevier Elementary Day\nStreaming Video: https://team1sports.com/maryvillescots/\nTickets: https://fan.hudl.com/tickets/VGlja2V0ZWRFdmVudDY4ZWZlMTMwYjM1OGUwYTkwZGYxY2JiNg==
URL:https://www.maryvillecollege.edu/event/maryville-college-mens-basketball-vs-hanover/
LOCATION:Cooper Athletic Center
CATEGORIES:Athletic Events
END:VEVENT
BEGIN:VEVENT
DTSTART;TZID=America/New_York:20251123T193000
DTEND;TZID=America/New_York:20251123T213000
DTSTAMP:20260422T014026
CREATED:20250721T162239Z
LAST-MODIFIED:20251124T203310Z
UID:10000148-1763926200-1763933400@www.maryvillecollege.edu
SUMMARY:Men's Basketball
DESCRIPTION:Maryville College Men’s Basketball at Washington & Jefferson
URL:https://www.maryvillecollege.edu/event/maryville-college-mens-basketball-at-washington-and-jefferson/
CATEGORIES:Athletic Events
END:VEVENT
BEGIN:VEVENT
DTSTART;TZID=America/New_York:20251121T170000
DTEND;TZID=America/New_York:20251121T190000
DTSTAMP:20260422T014026
CREATED:20251021T124521Z
LAST-MODIFIED:20251124T202838Z
UID:10001368-1763744400-1763751600@www.maryvillecollege.edu
SUMMARY:Men's Basketball
DESCRIPTION:Maryville College Men’s Basketball vs Carthage\nStreaming Video: https://cciwnetwork.com/carthage/
URL:https://www.maryvillecollege.edu/event/maryville-college-mens-basketball-vs-carthage-2/
LOCATION:Washington\, PA
CATEGORIES:Athletic Events
END:VEVENT
BEGIN:VEVENT
DTSTART;TZID=America/New_York:20251118T190000
DTEND;TZID=America/New_York:20251118T210000
DTSTAMP:20260422T014026
CREATED:20250721T162236Z
LAST-MODIFIED:20260217T164514Z
UID:10000146-1763492400-1763499600@www.maryvillecollege.edu
SUMMARY:Men's Basketball
DESCRIPTION:Maryville College Men’s Basketball vs Berea – Alcoa Night & Unicycle Performers\nStreaming Video: https://team1sports.com/maryvillescots/\nTickets: https://fan.hudl.com/tickets/VGlja2V0ZWRFdmVudDY4ZWZlMTMwMzg0NGMyMTk4NDk1MDczZg==
URL:https://www.maryvillecollege.edu/event/maryville-college-mens-basketball-vs-berea/
LOCATION:Cooper Athletic Center
CATEGORIES:Athletic Events
END:VEVENT
BEGIN:VEVENT
DTSTART;TZID=America/New_York:20251115T163000
DTEND;TZID=America/New_York:20251115T183000
DTSTAMP:20260422T014026
CREATED:20250721T162235Z
LAST-MODIFIED:20251124T203302Z
UID:10000145-1763224200-1763231400@www.maryvillecollege.edu
SUMMARY:Men's Basketball
DESCRIPTION:Maryville College Men’s Basketball vs Illinois Wesleyan/Illinois College\nStreaming Video: https://cciwnetwork.com/iwutitans/?B=3026146
URL:https://www.maryvillecollege.edu/event/maryville-college-mens-basketball-at-illinois-wesleyan/
CATEGORIES:Athletic Events
END:VEVENT
BEGIN:VEVENT
DTSTART;TZID=America/New_York:20251114T173000
DTEND;TZID=America/New_York:20251114T193000
DTSTAMP:20260422T014026
CREATED:20250721T162234Z
LAST-MODIFIED:20251124T203302Z
UID:10000144-1763141400-1763148600@www.maryvillecollege.edu
SUMMARY:Men's Basketball
DESCRIPTION:Maryville College Men’s Basketball vs Wisconsin-Oshkosh\nStreaming Video: https://cciwnetwork.com/iwutitans/?B=2944569
URL:https://www.maryvillecollege.edu/event/maryville-college-mens-basketball-vs-university-of-wisconsin-oshkosh/
CATEGORIES:Athletic Events
END:VEVENT
BEGIN:VEVENT
DTSTART;TZID=America/New_York:20251112T190000
DTEND;TZID=America/New_York:20251112T210000
DTSTAMP:20260422T014026
CREATED:20250721T162233Z
LAST-MODIFIED:20251124T203302Z
UID:10000143-1762974000-1762981200@www.maryvillecollege.edu
SUMMARY:Men's Basketball
DESCRIPTION:Maryville College Men’s Basketball at Sewanee\nStreaming Video: https://sewaneetigers.com/watch/?Live=734&type=Live
URL:https://www.maryvillecollege.edu/event/maryville-college-mens-basketball-at-sewanee/
LOCATION:Sewanee\, TN
CATEGORIES:Athletic Events
END:VEVENT
BEGIN:VEVENT
DTSTART;TZID=America/New_York:20251108T150000
DTEND;TZID=America/New_York:20251108T170000
DTSTAMP:20260422T014026
CREATED:20250721T162232Z
LAST-MODIFIED:20251124T203302Z
UID:10000142-1762614000-1762621200@www.maryvillecollege.edu
SUMMARY:Men's Basketball
DESCRIPTION:Maryville College Men’s Basketball at Berry
URL:https://www.maryvillecollege.edu/event/maryville-college-mens-basketball-at-berry/
LOCATION:Mount Berry\, GA
CATEGORIES:Athletic Events
END:VEVENT
BEGIN:VEVENT
DTSTART;TZID=America/New_York:20251107T170000
DTEND;TZID=America/New_York:20251107T190000
DTSTAMP:20260422T014026
CREATED:20250721T162230Z
LAST-MODIFIED:20251124T203302Z
UID:10000141-1762534800-1762542000@www.maryvillecollege.edu
SUMMARY:Men's Basketball
DESCRIPTION:Maryville College Men’s Basketball vs Pfeiffer
URL:https://www.maryvillecollege.edu/event/maryville-college-mens-basketball-vs-pfeiffer/
LOCATION:Mount Berry\, GA
CATEGORIES:Athletic Events
END:VEVENT
END:VCALENDAR