BEGIN:VCALENDAR
VERSION:2.0
PRODID:-//Maryville College - ECPv6.15.20//NONSGML v1.0//EN
CALSCALE:GREGORIAN
METHOD:PUBLISH
X-WR-CALNAME:Maryville College
X-ORIGINAL-URL:https://www.maryvillecollege.edu
X-WR-CALDESC:Events for Maryville College
REFRESH-INTERVAL;VALUE=DURATION:PT1H
X-Robots-Tag:noindex
X-PUBLISHED-TTL:PT1H
BEGIN:VTIMEZONE
TZID:America/New_York
BEGIN:DAYLIGHT
TZOFFSETFROM:-0500
TZOFFSETTO:-0400
TZNAME:EDT
DTSTART:20250309T070000
END:DAYLIGHT
BEGIN:STANDARD
TZOFFSETFROM:-0400
TZOFFSETTO:-0500
TZNAME:EST
DTSTART:20251102T060000
END:STANDARD
BEGIN:DAYLIGHT
TZOFFSETFROM:-0500
TZOFFSETTO:-0400
TZNAME:EDT
DTSTART:20260308T070000
END:DAYLIGHT
BEGIN:STANDARD
TZOFFSETFROM:-0400
TZOFFSETTO:-0500
TZNAME:EST
DTSTART:20261101T060000
END:STANDARD
BEGIN:DAYLIGHT
TZOFFSETFROM:-0500
TZOFFSETTO:-0400
TZNAME:EDT
DTSTART:20270314T070000
END:DAYLIGHT
BEGIN:STANDARD
TZOFFSETFROM:-0400
TZOFFSETTO:-0500
TZNAME:EST
DTSTART:20271107T060000
END:STANDARD
END:VTIMEZONE
BEGIN:VEVENT
DTSTART;TZID=America/New_York:20260301T130000
DTEND;TZID=America/New_York:20260301T150000
DTSTAMP:20260423T184810
CREATED:20251215T180054Z
LAST-MODIFIED:20260228T220022Z
UID:10001566-1772370000-1772377200@www.maryvillecollege.edu
SUMMARY:Softball
DESCRIPTION:Maryville College Softball vs Sewanee\nStreaming Video: https://team1sports.com/maryvillescots/?B=3649475
URL:https://www.maryvillecollege.edu/event/maryville-college-softball-vs-sewanee/
LOCATION:MC Softball Complex
CATEGORIES:Athletic Events
END:VEVENT
BEGIN:VEVENT
DTSTART;TZID=America/New_York:20260301T150000
DTEND;TZID=America/New_York:20260301T170000
DTSTAMP:20260423T184810
CREATED:20251215T180054Z
LAST-MODIFIED:20260228T220022Z
UID:10001567-1772377200-1772384400@www.maryvillecollege.edu
SUMMARY:Softball
DESCRIPTION:Maryville College Softball vs Sewanee\nStreaming Video: https://team1sports.com/maryvillescots/?B=3649475
URL:https://www.maryvillecollege.edu/event/maryville-college-softball-vs-sewanee-2/
LOCATION:MC Softball Complex
CATEGORIES:Athletic Events
END:VEVENT
BEGIN:VEVENT
DTSTART;TZID=America/New_York:20260304T150000
DTEND;TZID=America/New_York:20260304T170000
DTSTAMP:20260423T184810
CREATED:20251215T180055Z
LAST-MODIFIED:20260303T220022Z
UID:10001568-1772636400-1772643600@www.maryvillecollege.edu
SUMMARY:Softball
DESCRIPTION:Maryville College Softball vs Brevard\nStreaming Video: https://team1sports.com/maryvillescots/?B=3649480
URL:https://www.maryvillecollege.edu/event/maryville-college-softball-vs-brevard/
LOCATION:MC Softball Complex
CATEGORIES:Athletic Events
END:VEVENT
BEGIN:VEVENT
DTSTART;TZID=America/New_York:20260304T170000
DTEND;TZID=America/New_York:20260304T190000
DTSTAMP:20260423T184810
CREATED:20251215T180055Z
LAST-MODIFIED:20260304T220054Z
UID:10001569-1772643600-1772650800@www.maryvillecollege.edu
SUMMARY:Softball
DESCRIPTION:Maryville College Softball vs Brevard\nStreaming Video: https://team1sports.com/maryvillescots/?B=3649480
URL:https://www.maryvillecollege.edu/event/maryville-college-softball-vs-brevard-2/
LOCATION:MC Softball Complex
CATEGORIES:Athletic Events
END:VEVENT
BEGIN:VEVENT
DTSTART;TZID=America/New_York:20260306T100000
DTEND;TZID=America/New_York:20260306T120000
DTSTAMP:20260423T184810
CREATED:20251215T180057Z
LAST-MODIFIED:20260305T221522Z
UID:10001570-1772791200-1772798400@www.maryvillecollege.edu
SUMMARY:Softball
DESCRIPTION:Maryville College Softball vs Transylvania\nStreaming Video: https://nfca.org/division-iii-leadoff-classic-tournament-central-2026
URL:https://www.maryvillecollege.edu/event/maryville-college-softball-vs-transylvania/
LOCATION:Columbus\, GA
CATEGORIES:Athletic Events
END:VEVENT
BEGIN:VEVENT
DTSTART;TZID=America/New_York:20260306T123000
DTEND;TZID=America/New_York:20260306T143000
DTSTAMP:20260423T184810
CREATED:20251215T180057Z
LAST-MODIFIED:20260305T221524Z
UID:10001571-1772800200-1772807400@www.maryvillecollege.edu
SUMMARY:Softball
DESCRIPTION:Maryville College Softball vs DePauw\nStreaming Video: https://nfca.org/division-iii-leadoff-classic-tournament-central-2026
URL:https://www.maryvillecollege.edu/event/maryville-college-softball-vs-depauw/
LOCATION:Columbus\, GA
CATEGORIES:Athletic Events
END:VEVENT
BEGIN:VEVENT
DTSTART;TZID=America/New_York:20260307T150000
DTEND;TZID=America/New_York:20260307T170000
DTSTAMP:20260423T184810
CREATED:20251215T180058Z
LAST-MODIFIED:20260306T221534Z
UID:10001572-1772895600-1772902800@www.maryvillecollege.edu
SUMMARY:Softball
DESCRIPTION:Maryville College Softball vs Spalding\nStreaming Video: https://nfca.org/division-iii-leadoff-classic-tournament-central-2026
URL:https://www.maryvillecollege.edu/event/maryville-college-softball-vs-spalding/
LOCATION:Columbus\, GA
CATEGORIES:Athletic Events
END:VEVENT
BEGIN:VEVENT
DTSTART;TZID=America/New_York:20260307T173000
DTEND;TZID=America/New_York:20260307T193000
DTSTAMP:20260423T184810
CREATED:20251215T180059Z
LAST-MODIFIED:20260307T221517Z
UID:10001573-1772904600-1772911800@www.maryvillecollege.edu
SUMMARY:Softball
DESCRIPTION:Maryville College Softball vs Gettysburg\nStreaming Video: https://nfca.org/division-iii-leadoff-classic-tournament-central-2026
URL:https://www.maryvillecollege.edu/event/maryville-college-softball-vs-gettysburg/
LOCATION:Columbus\, GA
CATEGORIES:Athletic Events
END:VEVENT
BEGIN:VEVENT
DTSTART;TZID=America/New_York:20260308T130000
DTEND;TZID=America/New_York:20260308T150000
DTSTAMP:20260423T184810
CREATED:20251215T180100Z
LAST-MODIFIED:20260307T221518Z
UID:10001574-1772974800-1772982000@www.maryvillecollege.edu
SUMMARY:Softball
DESCRIPTION:Maryville College Softball vs Bethel (Minn.)\nStreaming Video: https://miacsportsnetwork.com/bethelmn/
URL:https://www.maryvillecollege.edu/event/maryville-college-softball-vs-bethel/
LOCATION:Columbus\, GA
CATEGORIES:Athletic Events
END:VEVENT
BEGIN:VEVENT
DTSTART;TZID=America/New_York:20260308T153000
DTEND;TZID=America/New_York:20260308T173000
DTSTAMP:20260423T184810
CREATED:20251215T180100Z
LAST-MODIFIED:20260307T221518Z
UID:10001575-1772983800-1772991000@www.maryvillecollege.edu
SUMMARY:Softball
DESCRIPTION:Maryville College Softball vs Emory\nStreaming Video: https://nfca.org/division-iii-leadoff-classic-tournament-central-2026
URL:https://www.maryvillecollege.edu/event/maryville-college-softball-vs-emory/
LOCATION:Columbus\, GA
CATEGORIES:Athletic Events
END:VEVENT
BEGIN:VEVENT
DTSTART;TZID=America/New_York:20260314T110000
DTEND;TZID=America/New_York:20260314T130000
DTSTAMP:20260423T184810
CREATED:20251215T180102Z
LAST-MODIFIED:20260313T224521Z
UID:10001576-1773486000-1773493200@www.maryvillecollege.edu
SUMMARY:Softball
DESCRIPTION:Maryville College Softball vs Adrian\nStreaming Video: https://team1sports.com/maryvillescots/?B=3820727
URL:https://www.maryvillecollege.edu/event/maryville-college-softball-vs-adrian-college/
LOCATION:Elizabethtown\, KY
CATEGORIES:Athletic Events
END:VEVENT
BEGIN:VEVENT
DTSTART;TZID=America/New_York:20260314T153000
DTEND;TZID=America/New_York:20260314T173000
DTSTAMP:20260423T184810
CREATED:20251215T180102Z
LAST-MODIFIED:20260313T224521Z
UID:10001577-1773502200-1773509400@www.maryvillecollege.edu
SUMMARY:Softball
DESCRIPTION:Maryville College Softball vs MSOE\nStreaming Video: https://team1sports.com/maryvillescots/?B=3820730
URL:https://www.maryvillecollege.edu/event/maryville-college-softball-vs-msoe/
LOCATION:Elizabethtown\, KY
CATEGORIES:Athletic Events
END:VEVENT
BEGIN:VEVENT
DTSTART;TZID=America/New_York:20260315T110000
DTEND;TZID=America/New_York:20260315T130000
DTSTAMP:20260423T184810
CREATED:20251215T180103Z
LAST-MODIFIED:20260314T224532Z
UID:10001578-1773572400-1773579600@www.maryvillecollege.edu
SUMMARY:Softball
DESCRIPTION:Maryville College Softball vs Transylvania\nStreaming Video: https://team1sports.com/maryvillescots/?B=3820732
URL:https://www.maryvillecollege.edu/event/maryville-college-softball-vs-transylvania-2/
LOCATION:Elizabethtown\, KY
CATEGORIES:Athletic Events
END:VEVENT
BEGIN:VEVENT
DTSTART;TZID=America/New_York:20260315T131500
DTEND;TZID=America/New_York:20260315T151500
DTSTAMP:20260423T184810
CREATED:20251215T180103Z
LAST-MODIFIED:20260314T224532Z
UID:10001579-1773580500-1773587700@www.maryvillecollege.edu
SUMMARY:Softball
DESCRIPTION:Maryville College Softball vs Anderson (Ind.)\nStreaming Video: https://team1sports.com/maryvillescots/?B=3820738
URL:https://www.maryvillecollege.edu/event/maryville-college-softball-vs-anderson/
LOCATION:Elizabethtown\, KY
CATEGORIES:Athletic Events
END:VEVENT
BEGIN:VEVENT
DTSTART;TZID=America/New_York:20260320T130000
DTEND;TZID=America/New_York:20260320T150000
DTSTAMP:20260423T184810
CREATED:20251215T180104Z
LAST-MODIFIED:20260319T231518Z
UID:10001580-1774011600-1774018800@www.maryvillecollege.edu
SUMMARY:Softball
DESCRIPTION:Maryville College Softball at Huntingdon\nStreaming Video: https://boxcast.tv/channel/anv8nghcpc9w0lsyuvba
URL:https://www.maryvillecollege.edu/event/maryville-college-softball-at-huntingdon/
LOCATION:Montgomery\, AL
CATEGORIES:Athletic Events
END:VEVENT
BEGIN:VEVENT
DTSTART;TZID=America/New_York:20260320T150000
DTEND;TZID=America/New_York:20260320T170000
DTSTAMP:20260423T184810
CREATED:20251215T180105Z
LAST-MODIFIED:20260319T231519Z
UID:10001581-1774018800-1774026000@www.maryvillecollege.edu
SUMMARY:Softball
DESCRIPTION:Maryville College Softball at Huntingdon\nStreaming Video: https://boxcast.tv/channel/anv8nghcpc9w0lsyuvba
URL:https://www.maryvillecollege.edu/event/maryville-college-softball-at-huntingdon-2/
LOCATION:Montgomery\, AL
CATEGORIES:Athletic Events
END:VEVENT
BEGIN:VEVENT
DTSTART;TZID=America/New_York:20260321T120000
DTEND;TZID=America/New_York:20260321T140000
DTSTAMP:20260423T184810
CREATED:20251215T180105Z
LAST-MODIFIED:20260321T050023Z
UID:10001582-1774094400-1774101600@www.maryvillecollege.edu
SUMMARY:Softball
DESCRIPTION:Maryville College Softball at LaGrange\nStreaming Video: https://vcloud.hudl.com/broadcast/embed/3572868
URL:https://www.maryvillecollege.edu/event/maryville-college-softball-at-lagrange/
LOCATION:LaGrange\, GA
CATEGORIES:Athletic Events
END:VEVENT
BEGIN:VEVENT
DTSTART;TZID=America/New_York:20260321T140000
DTEND;TZID=America/New_York:20260321T160000
DTSTAMP:20260423T184810
CREATED:20251215T180106Z
LAST-MODIFIED:20260321T050023Z
UID:10001583-1774101600-1774108800@www.maryvillecollege.edu
SUMMARY:Softball
DESCRIPTION:Maryville College Softball at LaGrange\nStreaming Video: https://vcloud.hudl.com/broadcast/embed/3572868
URL:https://www.maryvillecollege.edu/event/maryville-college-softball-at-lagrange-2/
LOCATION:LaGrange\, GA
CATEGORIES:Athletic Events
END:VEVENT
BEGIN:VEVENT
DTSTART;TZID=America/New_York:20260325T120000
DTEND;TZID=America/New_York:20260325T140000
DTSTAMP:20260423T184810
CREATED:20251215T180107Z
LAST-MODIFIED:20260325T073023Z
UID:10001584-1774440000-1774447200@www.maryvillecollege.edu
SUMMARY:Softball
DESCRIPTION:Maryville College Softball at Wesleyan
URL:https://www.maryvillecollege.edu/event/maryville-college-softball-at-wesleyan/
LOCATION:Macon\, GA
CATEGORIES:Athletic Events
END:VEVENT
BEGIN:VEVENT
DTSTART;TZID=America/New_York:20260325T140000
DTEND;TZID=America/New_York:20260325T160000
DTSTAMP:20260423T184810
CREATED:20251215T180107Z
LAST-MODIFIED:20260325T073024Z
UID:10001585-1774447200-1774454400@www.maryvillecollege.edu
SUMMARY:Softball
DESCRIPTION:Maryville College Softball at Wesleyan
URL:https://www.maryvillecollege.edu/event/maryville-college-softball-at-wesleyan-2/
LOCATION:Macon\, GA
CATEGORIES:Athletic Events
END:VEVENT
BEGIN:VEVENT
DTSTART;TZID=America/New_York:20260331T130000
DTEND;TZID=America/New_York:20260331T150000
DTSTAMP:20260423T184810
CREATED:20251215T180108Z
LAST-MODIFIED:20260331T073018Z
UID:10001586-1774962000-1774969200@www.maryvillecollege.edu
SUMMARY:Softball
DESCRIPTION:Maryville College Softball vs Franklin – Faculty/Staff Appreciation Day\nStreaming Video: https://team1sports.com/maryvillescots/?B=3649491
URL:https://www.maryvillecollege.edu/event/maryville-college-softball-vs-franklin/
LOCATION:MC Softball Complex
CATEGORIES:Athletic Events
END:VEVENT
BEGIN:VEVENT
DTSTART;TZID=America/New_York:20260331T150000
DTEND;TZID=America/New_York:20260331T170000
DTSTAMP:20260423T184810
CREATED:20251215T180108Z
LAST-MODIFIED:20260331T073018Z
UID:10001587-1774969200-1774976400@www.maryvillecollege.edu
SUMMARY:Softball
DESCRIPTION:Maryville College Softball vs Franklin – Faculty/Staff Appreciation Day\nStreaming Video: https://team1sports.com/maryvillescots/?B=3649491
URL:https://www.maryvillecollege.edu/event/maryville-college-softball-vs-franklin-2/
LOCATION:MC Softball Complex
CATEGORIES:Athletic Events
END:VEVENT
END:VCALENDAR