BEGIN:VCALENDAR
VERSION:2.0
PRODID:-//Maryville College - ECPv6.15.20//NONSGML v1.0//EN
CALSCALE:GREGORIAN
METHOD:PUBLISH
X-ORIGINAL-URL:https://www.maryvillecollege.edu
X-WR-CALDESC:Events for Maryville College
REFRESH-INTERVAL;VALUE=DURATION:PT1H
X-Robots-Tag:noindex
X-PUBLISHED-TTL:PT1H
BEGIN:VTIMEZONE
TZID:America/New_York
BEGIN:DAYLIGHT
TZOFFSETFROM:-0500
TZOFFSETTO:-0400
TZNAME:EDT
DTSTART:20250309T070000
END:DAYLIGHT
BEGIN:STANDARD
TZOFFSETFROM:-0400
TZOFFSETTO:-0500
TZNAME:EST
DTSTART:20251102T060000
END:STANDARD
BEGIN:DAYLIGHT
TZOFFSETFROM:-0500
TZOFFSETTO:-0400
TZNAME:EDT
DTSTART:20260308T070000
END:DAYLIGHT
BEGIN:STANDARD
TZOFFSETFROM:-0400
TZOFFSETTO:-0500
TZNAME:EST
DTSTART:20261101T060000
END:STANDARD
BEGIN:DAYLIGHT
TZOFFSETFROM:-0500
TZOFFSETTO:-0400
TZNAME:EDT
DTSTART:20270314T070000
END:DAYLIGHT
BEGIN:STANDARD
TZOFFSETFROM:-0400
TZOFFSETTO:-0500
TZNAME:EST
DTSTART:20271107T060000
END:STANDARD
END:VTIMEZONE
BEGIN:VEVENT
DTSTART;TZID=America/New_York:20260424T150000
DTEND;TZID=America/New_York:20260424T170000
DTSTAMP:20260423T191138
CREATED:20251215T180115Z
LAST-MODIFIED:20260423T084522Z
UID:10001596-1777042800-1777050000@www.maryvillecollege.edu
SUMMARY:Softball
DESCRIPTION:Maryville College Softball vs Covenant – VS. Cancer Game\nStreaming Video: https://team1sports.com/maryvillescots/?B=3649501
URL:https://www.maryvillecollege.edu/event/maryville-college-softball-vs-covenant/
LOCATION:MC Softball Complex
CATEGORIES:Athletic Events
END:VEVENT
BEGIN:VEVENT
DTSTART;TZID=America/New_York:20260424T170000
DTEND;TZID=America/New_York:20260424T190000
DTSTAMP:20260423T191138
CREATED:20251215T180116Z
LAST-MODIFIED:20260423T084523Z
UID:10001597-1777050000-1777057200@www.maryvillecollege.edu
SUMMARY:Softball
DESCRIPTION:Maryville College Softball vs Covenant – VS. Cancer Game\nStreaming Video: https://team1sports.com/maryvillescots/?B=3649501
URL:https://www.maryvillecollege.edu/event/maryville-college-softball-vs-covenant-2/
LOCATION:MC Softball Complex
CATEGORIES:Athletic Events
END:VEVENT
END:VCALENDAR