BEGIN:VCALENDAR
VERSION:2.0
PRODID:-//Maryville College - ECPv6.15.20//NONSGML v1.0//EN
CALSCALE:GREGORIAN
METHOD:PUBLISH
X-WR-CALNAME:Maryville College
X-ORIGINAL-URL:https://www.maryvillecollege.edu
X-WR-CALDESC:Events for Maryville College
REFRESH-INTERVAL;VALUE=DURATION:PT1H
X-Robots-Tag:noindex
X-PUBLISHED-TTL:PT1H
BEGIN:VTIMEZONE
TZID:America/New_York
BEGIN:DAYLIGHT
TZOFFSETFROM:-0500
TZOFFSETTO:-0400
TZNAME:EDT
DTSTART:20250309T070000
END:DAYLIGHT
BEGIN:STANDARD
TZOFFSETFROM:-0400
TZOFFSETTO:-0500
TZNAME:EST
DTSTART:20251102T060000
END:STANDARD
BEGIN:DAYLIGHT
TZOFFSETFROM:-0500
TZOFFSETTO:-0400
TZNAME:EDT
DTSTART:20260308T070000
END:DAYLIGHT
BEGIN:STANDARD
TZOFFSETFROM:-0400
TZOFFSETTO:-0500
TZNAME:EST
DTSTART:20261101T060000
END:STANDARD
BEGIN:DAYLIGHT
TZOFFSETFROM:-0500
TZOFFSETTO:-0400
TZNAME:EDT
DTSTART:20270314T070000
END:DAYLIGHT
BEGIN:STANDARD
TZOFFSETFROM:-0400
TZOFFSETTO:-0500
TZNAME:EST
DTSTART:20271107T060000
END:STANDARD
END:VTIMEZONE
BEGIN:VEVENT
DTSTART;TZID=America/New_York:20260203T170000
DTEND;TZID=America/New_York:20260203T190000
DTSTAMP:20260422T075033
CREATED:20250721T162339Z
LAST-MODIFIED:20260203T145014Z
UID:10000186-1770138000-1770145200@www.maryvillecollege.edu
SUMMARY:Women's Basketball
DESCRIPTION:Maryville College Women’s Basketball vs Covenant – ASL Night\nStreaming Video: https://team1sports.com/maryvillescots/\nTickets: https://fan.hudl.com/tickets/VGlja2V0ZWRFdmVudDY4ZWZlMWE5YjUzYTAwMDgxOTcyZTg0Mg==
URL:https://www.maryvillecollege.edu/event/maryville-college-womens-basketball-vs-covenant/
LOCATION:Cooper Athletic Center
CATEGORIES:Athletic Events
END:VEVENT
BEGIN:VEVENT
DTSTART;TZID=America/New_York:20260207T140000
DTEND;TZID=America/New_York:20260207T160000
DTSTAMP:20260422T075033
CREATED:20250721T162340Z
LAST-MODIFIED:20260207T151524Z
UID:10000187-1770472800-1770480000@www.maryvillecollege.edu
SUMMARY:Women's Basketball
DESCRIPTION:Maryville College Women’s Basketball at Belhaven\nStreaming Video: https://blazers.belhaven.edu/watch/?Live=892&type=Live
URL:https://www.maryvillecollege.edu/event/maryville-college-womens-basketball-at-belhaven/
CATEGORIES:Athletic Events
END:VEVENT
BEGIN:VEVENT
DTSTART;TZID=America/New_York:20260214T140000
DTEND;TZID=America/New_York:20260214T160000
DTSTAMP:20260422T075033
CREATED:20250721T162341Z
LAST-MODIFIED:20260214T154520Z
UID:10000188-1771077600-1771084800@www.maryvillecollege.edu
SUMMARY:Women's Basketball
DESCRIPTION:Maryville College Women’s Basketball at Wesleyan
URL:https://www.maryvillecollege.edu/event/maryville-college-womens-basketball-at-wesleyan/
CATEGORIES:Athletic Events
END:VEVENT
BEGIN:VEVENT
DTSTART;TZID=America/New_York:20260217T170000
DTEND;TZID=America/New_York:20260217T190000
DTSTAMP:20260422T075033
CREATED:20250721T162342Z
LAST-MODIFIED:20260217T160030Z
UID:10000189-1771347600-1771354800@www.maryvillecollege.edu
SUMMARY:Women's Basketball
DESCRIPTION:Maryville College Women’s Basketball vs Asbury – Blount County Elementary Basketball Spotlight Night\nStreaming Video: https://team1sports.com/maryvillescots/\nTickets: https://fan.hudl.com/tickets/VGlja2V0ZWRFdmVudDY4ZWZlMWE5YjUzYTAwMDgxOTcyZTg0MQ==
URL:https://www.maryvillecollege.edu/event/maryville-college-womens-basketball-vs-asbury/
LOCATION:Cooper Athletic Center
CATEGORIES:Athletic Events
END:VEVENT
BEGIN:VEVENT
DTSTART;TZID=America/New_York:20260221T140000
DTEND;TZID=America/New_York:20260221T160000
DTSTAMP:20260422T075033
CREATED:20250721T162343Z
LAST-MODIFIED:20260221T160041Z
UID:10000190-1771682400-1771689600@www.maryvillecollege.edu
SUMMARY:Women's Basketball
DESCRIPTION:Maryville College Women’s Basketball at Piedmont\nStreaming Video: https://www.youtube.com/live/sjpz9UYrL3Y
URL:https://www.maryvillecollege.edu/event/maryville-college-womens-basketball-at-piedmont/
CATEGORIES:Athletic Events
END:VEVENT
END:VCALENDAR