BEGIN:VCALENDAR
VERSION:2.0
PRODID:-//Maryville College - ECPv6.15.20//NONSGML v1.0//EN
CALSCALE:GREGORIAN
METHOD:PUBLISH
X-ORIGINAL-URL:https://www.maryvillecollege.edu
X-WR-CALDESC:Events for Maryville College
REFRESH-INTERVAL;VALUE=DURATION:PT1H
X-Robots-Tag:noindex
X-PUBLISHED-TTL:PT1H
BEGIN:VTIMEZONE
TZID:America/New_York
BEGIN:DAYLIGHT
TZOFFSETFROM:-0500
TZOFFSETTO:-0400
TZNAME:EDT
DTSTART:20240310T070000
END:DAYLIGHT
BEGIN:STANDARD
TZOFFSETFROM:-0400
TZOFFSETTO:-0500
TZNAME:EST
DTSTART:20241103T060000
END:STANDARD
BEGIN:DAYLIGHT
TZOFFSETFROM:-0500
TZOFFSETTO:-0400
TZNAME:EDT
DTSTART:20250309T070000
END:DAYLIGHT
BEGIN:STANDARD
TZOFFSETFROM:-0400
TZOFFSETTO:-0500
TZNAME:EST
DTSTART:20251102T060000
END:STANDARD
BEGIN:DAYLIGHT
TZOFFSETFROM:-0500
TZOFFSETTO:-0400
TZNAME:EDT
DTSTART:20260308T070000
END:DAYLIGHT
BEGIN:STANDARD
TZOFFSETFROM:-0400
TZOFFSETTO:-0500
TZNAME:EST
DTSTART:20261101T060000
END:STANDARD
BEGIN:DAYLIGHT
TZOFFSETFROM:-0500
TZOFFSETTO:-0400
TZNAME:EDT
DTSTART:20270314T070000
END:DAYLIGHT
BEGIN:STANDARD
TZOFFSETFROM:-0400
TZOFFSETTO:-0500
TZNAME:EST
DTSTART:20271107T060000
END:STANDARD
END:VTIMEZONE
BEGIN:VEVENT
DTSTART;TZID=America/New_York:20260306T180000
DTEND;TZID=America/New_York:20260320T235900
DTSTAMP:20260422T061013
CREATED:20250922T173038Z
LAST-MODIFIED:20260224T163038Z
UID:10001324-1772820000-1774051140@www.maryvillecollege.edu
SUMMARY:Women's Basketball NCAA Division III Championship
DESCRIPTION:Maryville College Women’s Basketball vs NCAA Division III Championship
URL:https://www.maryvillecollege.edu/event/maryville-college-womens-basketball-vs-ncaa-division-iii-championship/
CATEGORIES:Athletic Events
END:VEVENT
BEGIN:VEVENT
DTSTART;TZID=America/New_York:20260221T140000
DTEND;TZID=America/New_York:20260221T160000
DTSTAMP:20260422T061013
CREATED:20250721T162343Z
LAST-MODIFIED:20260221T160041Z
UID:10000190-1771682400-1771689600@www.maryvillecollege.edu
SUMMARY:Women's Basketball
DESCRIPTION:Maryville College Women’s Basketball at Piedmont\nStreaming Video: https://www.youtube.com/live/sjpz9UYrL3Y
URL:https://www.maryvillecollege.edu/event/maryville-college-womens-basketball-at-piedmont/
CATEGORIES:Athletic Events
END:VEVENT
BEGIN:VEVENT
DTSTART;TZID=America/New_York:20260217T170000
DTEND;TZID=America/New_York:20260217T190000
DTSTAMP:20260422T061013
CREATED:20250721T162342Z
LAST-MODIFIED:20260217T160030Z
UID:10000189-1771347600-1771354800@www.maryvillecollege.edu
SUMMARY:Women's Basketball
DESCRIPTION:Maryville College Women’s Basketball vs Asbury – Blount County Elementary Basketball Spotlight Night\nStreaming Video: https://team1sports.com/maryvillescots/\nTickets: https://fan.hudl.com/tickets/VGlja2V0ZWRFdmVudDY4ZWZlMWE5YjUzYTAwMDgxOTcyZTg0MQ==
URL:https://www.maryvillecollege.edu/event/maryville-college-womens-basketball-vs-asbury/
LOCATION:Cooper Athletic Center
CATEGORIES:Athletic Events
END:VEVENT
BEGIN:VEVENT
DTSTART;TZID=America/New_York:20260214T140000
DTEND;TZID=America/New_York:20260214T160000
DTSTAMP:20260422T061013
CREATED:20250721T162341Z
LAST-MODIFIED:20260214T154520Z
UID:10000188-1771077600-1771084800@www.maryvillecollege.edu
SUMMARY:Women's Basketball
DESCRIPTION:Maryville College Women’s Basketball at Wesleyan
URL:https://www.maryvillecollege.edu/event/maryville-college-womens-basketball-at-wesleyan/
CATEGORIES:Athletic Events
END:VEVENT
BEGIN:VEVENT
DTSTART;TZID=America/New_York:20260207T140000
DTEND;TZID=America/New_York:20260207T160000
DTSTAMP:20260422T061013
CREATED:20250721T162340Z
LAST-MODIFIED:20260207T151524Z
UID:10000187-1770472800-1770480000@www.maryvillecollege.edu
SUMMARY:Women's Basketball
DESCRIPTION:Maryville College Women’s Basketball at Belhaven\nStreaming Video: https://blazers.belhaven.edu/watch/?Live=892&type=Live
URL:https://www.maryvillecollege.edu/event/maryville-college-womens-basketball-at-belhaven/
CATEGORIES:Athletic Events
END:VEVENT
BEGIN:VEVENT
DTSTART;TZID=America/New_York:20260203T170000
DTEND;TZID=America/New_York:20260203T190000
DTSTAMP:20260422T061013
CREATED:20250721T162339Z
LAST-MODIFIED:20260203T145014Z
UID:10000186-1770138000-1770145200@www.maryvillecollege.edu
SUMMARY:Women's Basketball
DESCRIPTION:Maryville College Women’s Basketball vs Covenant – ASL Night\nStreaming Video: https://team1sports.com/maryvillescots/\nTickets: https://fan.hudl.com/tickets/VGlja2V0ZWRFdmVudDY4ZWZlMWE5YjUzYTAwMDgxOTcyZTg0Mg==
URL:https://www.maryvillecollege.edu/event/maryville-college-womens-basketball-vs-covenant/
LOCATION:Cooper Athletic Center
CATEGORIES:Athletic Events
END:VEVENT
BEGIN:VEVENT
DTSTART;TZID=America/New_York:20260131T140000
DTEND;TZID=America/New_York:20260131T160000
DTSTAMP:20260422T061013
CREATED:20250721T162339Z
LAST-MODIFIED:20260126T181517Z
UID:10000185-1769868000-1769875200@www.maryvillecollege.edu
SUMMARY:Women's Basketball
DESCRIPTION:Maryville College Women’s Basketball vs LaGrange\nStreaming Video: https://team1sports.com/maryvillescots/\nTickets: https://fan.hudl.com/tickets/VGlja2V0ZWRFdmVudDY4ZWZlMWE5YjUzYTAwMDgxOTcyZTgzZg==
URL:https://www.maryvillecollege.edu/event/maryville-college-womens-basketball-vs-lagrange/
LOCATION:Cooper Athletic Center
CATEGORIES:Athletic Events
END:VEVENT
BEGIN:VEVENT
DTSTART;TZID=America/New_York:20260128T170000
DTEND;TZID=America/New_York:20260128T190000
DTSTAMP:20260422T061013
CREATED:20250721T162338Z
LAST-MODIFIED:20260126T181517Z
UID:10000184-1769619600-1769626800@www.maryvillecollege.edu
SUMMARY:Women's Basketball
DESCRIPTION:Maryville College Women’s Basketball at Agnes Scott\nStreaming Video: https://team1sports.com/agnesscott/
URL:https://www.maryvillecollege.edu/event/maryville-college-womens-basketball-at-agnes-scott/
CATEGORIES:Athletic Events
END:VEVENT
BEGIN:VEVENT
DTSTART;TZID=America/New_York:20260124T140000
DTEND;TZID=America/New_York:20260124T160000
DTSTAMP:20260422T061013
CREATED:20250721T162337Z
LAST-MODIFIED:20260213T154538Z
UID:10000183-1769263200-1769270400@www.maryvillecollege.edu
SUMMARY:Women's Basketball
DESCRIPTION:Maryville College Women’s Basketball vs Huntingdon – Military and First Responder Night\nStreaming Video: https://team1sports.com/maryvillescots/\nTickets: https://fan.hudl.com/tickets/VGlja2V0ZWRFdmVudDY4ZWZlMWE5YjUzYTAwMDgxOTcyZTg0MA==
URL:https://www.maryvillecollege.edu/event/maryville-college-womens-basketball-vs-huntingdon/
LOCATION:Cooper Athletic Center
CATEGORIES:Athletic Events
END:VEVENT
BEGIN:VEVENT
DTSTART;TZID=America/New_York:20260123T170000
DTEND;TZID=America/New_York:20260123T190000
DTSTAMP:20260422T061013
CREATED:20250721T162336Z
LAST-MODIFIED:20260119T181514Z
UID:10000182-1769187600-1769194800@www.maryvillecollege.edu
SUMMARY:Women's Basketball
DESCRIPTION:Maryville College Women’s Basketball vs Bob Jones – Blount County High School Band\nStreaming Video: https://team1sports.com/maryvillescots/\nTickets: https://fan.hudl.com/tickets/VGlja2V0ZWRFdmVudDY4ZWZlMWE5ZDAyZGM4Yjk5NjE0ZmU4MQ==
URL:https://www.maryvillecollege.edu/event/maryville-college-womens-basketball-vs-bob-jones/
LOCATION:Cooper Athletic Center
CATEGORIES:Athletic Events
END:VEVENT
BEGIN:VEVENT
DTSTART;TZID=America/New_York:20260120T170000
DTEND;TZID=America/New_York:20260120T190000
DTSTAMP:20260422T061013
CREATED:20250721T162335Z
LAST-MODIFIED:20260119T181514Z
UID:10000181-1768928400-1768935600@www.maryvillecollege.edu
SUMMARY:Women's Basketball
DESCRIPTION:Maryville College Women’s Basketball at Covenant
URL:https://www.maryvillecollege.edu/event/maryville-college-womens-basketball-at-covenant/
LOCATION:Lookout Mountain\, GA
CATEGORIES:Athletic Events
END:VEVENT
BEGIN:VEVENT
DTSTART;TZID=America/New_York:20260117T140000
DTEND;TZID=America/New_York:20260117T160000
DTSTAMP:20260422T061013
CREATED:20251215T172447Z
LAST-MODIFIED:20260219T162830Z
UID:10001556-1768658400-1768665600@www.maryvillecollege.edu
SUMMARY:Women's Basketball Alumni Day
DESCRIPTION:Calling all alumni of the Women’s Scots Basketball team! It’s alumni day on Lambert Court and you are invited. Join with fellow Scots to cheer on the current team in a conference matchup against Belhaven and a special recognition of the 2015-16 team’s NCAA Sweet Sixteen run. \nAlumni recognition will be at 1:50 pm prior to the 2:00 pm tip off. Please arrive early to be recognized! \nPlease RSVP here for two (2) complimentary tickets to the game. Additional tickets are $10/each and must be purchased here in advance of the game. Children 3 and younger are free. \n**This RSVP is specifically for alumni of the MC Women’s Basketball team. If you are not an alum of the basketball team check out the Alumni Day at MC Basketball event happening January 31\, welcoming all MC alumni back to Cooper for Scots Basketball.**
URL:https://www.maryvillecollege.edu/event/womens-basketball-alumni-day/
LOCATION:Cooper Athletic Center
CATEGORIES:Alumni Office,Athletic Events
ATTACH;FMTTYPE=image/png:https://www.maryvillecollege.edu/wp-content/uploads/Alumni/Events/2026/WBB-Alumni-Night-Flyer.png
END:VEVENT
BEGIN:VEVENT
DTSTART;TZID=America/New_York:20260117T140000
DTEND;TZID=America/New_York:20260117T160000
DTSTAMP:20260422T061013
CREATED:20250721T162334Z
LAST-MODIFIED:20260112T181516Z
UID:10000180-1768658400-1768665600@www.maryvillecollege.edu
SUMMARY:Women's Basketball
DESCRIPTION:Maryville College Women’s Basketball vs Belhaven – Women’s Basketball Alumni Night\nStreaming Video: https://team1sports.com/maryvillescots/\nTickets: https://fan.hudl.com/tickets/VGlja2V0ZWRFdmVudDY4ZWZlMWE5ZDAyZGM4Yjk5NjE0ZmU4Mg==
URL:https://www.maryvillecollege.edu/event/maryville-college-womens-basketball-vs-belhaven/
LOCATION:Cooper Athletic Center
CATEGORIES:Athletic Events
END:VEVENT
BEGIN:VEVENT
DTSTART;TZID=America/New_York:20260116T170000
DTEND;TZID=America/New_York:20260116T190000
DTSTAMP:20260422T061013
CREATED:20250721T162334Z
LAST-MODIFIED:20260112T181515Z
UID:10000179-1768582800-1768590000@www.maryvillecollege.edu
SUMMARY:Women's Basketball
DESCRIPTION:Maryville College Women’s Basketball vs Piedmont\nStreaming Video: https://team1sports.com/maryvillescots/\nTickets: https://fan.hudl.com/tickets/VGlja2V0ZWRFdmVudDY4ZWZlMWE5ZDAyZGM4Yjk5NjE0ZmU4Nw==
URL:https://www.maryvillecollege.edu/event/maryville-college-womens-basketball-vs-piedmont/
LOCATION:Cooper Athletic Center
CATEGORIES:Athletic Events
END:VEVENT
BEGIN:VEVENT
DTSTART;TZID=America/New_York:20260113T170000
DTEND;TZID=America/New_York:20260113T190000
DTSTAMP:20260422T061013
CREATED:20250721T162333Z
LAST-MODIFIED:20260112T181515Z
UID:10000178-1768323600-1768330800@www.maryvillecollege.edu
SUMMARY:Women's Basketball
DESCRIPTION:Maryville College Women’s Basketball at Asbury\nStreaming Video: https://www.asburysportsdigitalnetwork.com/
URL:https://www.maryvillecollege.edu/event/maryville-college-womens-basketball-at-asbury-university-ky/
CATEGORIES:Athletic Events
END:VEVENT
BEGIN:VEVENT
DTSTART;TZID=America/New_York:20260110T140000
DTEND;TZID=America/New_York:20260110T160000
DTSTAMP:20260422T061013
CREATED:20250721T162332Z
LAST-MODIFIED:20260105T181527Z
UID:10000177-1768053600-1768060800@www.maryvillecollege.edu
SUMMARY:Women's Basketball
DESCRIPTION:Maryville College Women’s Basketball vs Agnes Scott\nStreaming Video: https://team1sports.com/maryvillescots/\nTickets: https://fan.hudl.com/tickets/VGlja2V0ZWRFdmVudDY4ZWZlMWE5ZDAyZGM4Yjk5NjE0ZmU4NA==
URL:https://www.maryvillecollege.edu/event/maryville-college-womens-basketball-vs-agnes-scott/
LOCATION:Cooper Athletic Center
CATEGORIES:Athletic Events
END:VEVENT
BEGIN:VEVENT
DTSTART;TZID=America/New_York:20260103T140000
DTEND;TZID=America/New_York:20260103T160000
DTSTAMP:20260422T061013
CREATED:20250721T162332Z
LAST-MODIFIED:20251229T181517Z
UID:10000176-1767448800-1767456000@www.maryvillecollege.edu
SUMMARY:Women's Basketball
DESCRIPTION:Maryville College Women’s Basketball at LaGrange
URL:https://www.maryvillecollege.edu/event/maryville-college-womens-basketball-at-lagrange/
LOCATION:LaGrange\, GA
CATEGORIES:Athletic Events
END:VEVENT
BEGIN:VEVENT
DTSTART;TZID=America/New_York:20260102T170000
DTEND;TZID=America/New_York:20260102T190000
DTSTAMP:20260422T061013
CREATED:20250721T162331Z
LAST-MODIFIED:20251229T181516Z
UID:10000175-1767373200-1767380400@www.maryvillecollege.edu
SUMMARY:Women's Basketball
DESCRIPTION:Maryville College Women’s Basketball at Huntingdon
URL:https://www.maryvillecollege.edu/event/maryville-college-womens-basketball-at-huntingdon/
CATEGORIES:Athletic Events
END:VEVENT
BEGIN:VEVENT
DTSTART;VALUE=DATE:20251220
DTEND;VALUE=DATE:20251221
DTSTAMP:20260422T061013
CREATED:20250721T162330Z
LAST-MODIFIED:20251215T180119Z
UID:10000174-1766188800-1766275199@www.maryvillecollege.edu
SUMMARY:Women's Basketball
DESCRIPTION:Maryville College Women’s Basketball vs Christopher Newport/York (Pa.)
URL:https://www.maryvillecollege.edu/event/maryville-college-womens-basketball-vs-tbd/
CATEGORIES:Athletic Events
END:VEVENT
BEGIN:VEVENT
DTSTART;TZID=America/New_York:20251219T170000
DTEND;TZID=America/New_York:20251219T190000
DTSTAMP:20260422T061013
CREATED:20250721T162330Z
LAST-MODIFIED:20251215T180119Z
UID:10000173-1766163600-1766170800@www.maryvillecollege.edu
SUMMARY:Women's Basketball
DESCRIPTION:Maryville College Women’s Basketball vs Catholic
URL:https://www.maryvillecollege.edu/event/maryville-college-womens-basketball-vs-catholic/
CATEGORIES:Athletic Events
END:VEVENT
BEGIN:VEVENT
DTSTART;TZID=America/New_York:20251216T170000
DTEND;TZID=America/New_York:20251216T190000
DTSTAMP:20260422T061013
CREATED:20250721T162328Z
LAST-MODIFIED:20251215T180119Z
UID:10000172-1765904400-1765911600@www.maryvillecollege.edu
SUMMARY:Women's Basketball
DESCRIPTION:Maryville College Women’s Basketball vs Centre – Faculty Night\nStreaming Video: https://team1sports.com/maryvillescots/\nTickets: https://fan.hudl.com/tickets/VGlja2V0ZWRFdmVudDY4ZWZlMWE5ZDAyZGM4Yjk5NjE0ZmU4NQ==
URL:https://www.maryvillecollege.edu/event/maryville-college-womens-basketball-vs-centre/
LOCATION:Cooper Athletic Center
CATEGORIES:Athletic Events
END:VEVENT
BEGIN:VEVENT
DTSTART;TZID=America/New_York:20251214T140000
DTEND;TZID=America/New_York:20251214T160000
DTSTAMP:20260422T061013
CREATED:20250721T162328Z
LAST-MODIFIED:20251124T203331Z
UID:10000171-1765720800-1765728000@www.maryvillecollege.edu
SUMMARY:Women's Basketball
DESCRIPTION:Maryville College Women’s Basketball vs Spalding\nStreaming Video: https://team1sports.com/maryvillescots/\nTickets: https://fan.hudl.com/tickets/VGlja2V0ZWRFdmVudDY4ZWZlMWE5ZDAyZGM4Yjk5NjE0ZmU4Ng==
URL:https://www.maryvillecollege.edu/event/maryville-college-womens-basketball-vs-spalding/
LOCATION:Cooper Athletic Center
CATEGORIES:Athletic Events
END:VEVENT
BEGIN:VEVENT
DTSTART;TZID=America/New_York:20251213T140000
DTEND;TZID=America/New_York:20251213T160000
DTSTAMP:20260422T061013
CREATED:20250721T162327Z
LAST-MODIFIED:20251208T180028Z
UID:10000170-1765634400-1765641600@www.maryvillecollege.edu
SUMMARY:Women's Basketball
DESCRIPTION:Maryville College Women’s Basketball vs Wesleyan – Grounds Keepers\, Maintenance Workers\, and Pearsons Employees Appreciation Night Streaming Video: https://team1sports.com/maryvillescots/ Tickets: https://fan.hudl.com/tickets/VGlja2V0ZWRFdmVudDY4ZWZlMWE5ZDAyZGM4Yjk5NjE0ZmU4Mw==
URL:https://www.maryvillecollege.edu/event/maryville-college-womens-basketball-vs-wesleyan/
LOCATION:Cooper Athletic Center
CATEGORIES:Athletic Events
END:VEVENT
BEGIN:VEVENT
DTSTART;TZID=America/New_York:20251130T130000
DTEND;TZID=America/New_York:20251130T150000
DTSTAMP:20260422T061013
CREATED:20250721T162326Z
LAST-MODIFIED:20251124T203324Z
UID:10000169-1764507600-1764514800@www.maryvillecollege.edu
SUMMARY:Women's Basketball
DESCRIPTION:Maryville College Women’s Basketball vs Muskingum\nStreaming Video: https://team1sports.com/transy/
URL:https://www.maryvillecollege.edu/event/maryville-college-womens-basketball-vs-muskingum/
CATEGORIES:Athletic Events
END:VEVENT
BEGIN:VEVENT
DTSTART;TZID=America/New_York:20251129T150000
DTEND;TZID=America/New_York:20251129T170000
DTSTAMP:20260422T061013
CREATED:20250721T162326Z
LAST-MODIFIED:20251124T203324Z
UID:10000168-1764428400-1764435600@www.maryvillecollege.edu
SUMMARY:Women's Basketball
DESCRIPTION:Maryville College Women’s Basketball at Transylvania\nStreaming Video: https://team1sports.com/transy/
URL:https://www.maryvillecollege.edu/event/maryville-college-womens-basketball-at-transylvania/
LOCATION:Lexington\, KY
CATEGORIES:Athletic Events
END:VEVENT
BEGIN:VEVENT
DTSTART;TZID=America/New_York:20251120T170000
DTEND;TZID=America/New_York:20251120T190000
DTSTAMP:20260422T061013
CREATED:20250721T162325Z
LAST-MODIFIED:20251124T203324Z
UID:10000167-1763658000-1763665200@www.maryvillecollege.edu
SUMMARY:Women's Basketball
DESCRIPTION:Maryville College Women’s Basketball at Sewanee\nStreaming Video: https://sewaneetigers.com/watch/?Live=746&type=Live
URL:https://www.maryvillecollege.edu/event/maryville-college-womens-basketball-at-sewanee/
LOCATION:Sewanee\, TN
CATEGORIES:Athletic Events
END:VEVENT
BEGIN:VEVENT
DTSTART;TZID=America/New_York:20251117T170000
DTEND;TZID=America/New_York:20251117T190000
DTSTAMP:20260422T061013
CREATED:20250721T162324Z
LAST-MODIFIED:20251124T203324Z
UID:10000166-1763398800-1763406000@www.maryvillecollege.edu
SUMMARY:Women's Basketball
DESCRIPTION:Maryville College Women’s Basketball at Warren Wilson\nStreaming Video: https://www.youtube.com/@WarrenWilsonOwls/streams
URL:https://www.maryvillecollege.edu/event/maryville-college-womens-basketball-at-warren-wilson/
CATEGORIES:Athletic Events
END:VEVENT
END:VCALENDAR