BEGIN:VCALENDAR
VERSION:2.0
PRODID:-//Maryville College - ECPv6.15.20//NONSGML v1.0//EN
CALSCALE:GREGORIAN
METHOD:PUBLISH
X-WR-CALNAME:Maryville College
X-ORIGINAL-URL:https://www.maryvillecollege.edu
X-WR-CALDESC:Events for Maryville College
REFRESH-INTERVAL;VALUE=DURATION:PT1H
X-Robots-Tag:noindex
X-PUBLISHED-TTL:PT1H
BEGIN:VTIMEZONE
TZID:America/New_York
BEGIN:DAYLIGHT
TZOFFSETFROM:-0500
TZOFFSETTO:-0400
TZNAME:EDT
DTSTART:20240310T070000
END:DAYLIGHT
BEGIN:STANDARD
TZOFFSETFROM:-0400
TZOFFSETTO:-0500
TZNAME:EST
DTSTART:20241103T060000
END:STANDARD
BEGIN:DAYLIGHT
TZOFFSETFROM:-0500
TZOFFSETTO:-0400
TZNAME:EDT
DTSTART:20250309T070000
END:DAYLIGHT
BEGIN:STANDARD
TZOFFSETFROM:-0400
TZOFFSETTO:-0500
TZNAME:EST
DTSTART:20251102T060000
END:STANDARD
BEGIN:DAYLIGHT
TZOFFSETFROM:-0500
TZOFFSETTO:-0400
TZNAME:EDT
DTSTART:20260308T070000
END:DAYLIGHT
BEGIN:STANDARD
TZOFFSETFROM:-0400
TZOFFSETTO:-0500
TZNAME:EST
DTSTART:20261101T060000
END:STANDARD
END:VTIMEZONE
BEGIN:VEVENT
DTSTART;TZID=America/New_York:20251120T190000
DTEND;TZID=America/New_York:20251120T203000
DTSTAMP:20260421T101913
CREATED:20250821T152205Z
LAST-MODIFIED:20251117T154520Z
UID:10001013-1763665200-1763670600@www.maryvillecollege.edu
SUMMARY:MC3 Band Fall Concert
DESCRIPTION:The MC3 Band\, under the direction of Jay Romines\, will present a fall concert at 7 p.m. in the Clayton Center for the Arts’ Ronald and Lynda Nutt Theatre.  The concert is free and open to the public.
URL:https://www.maryvillecollege.edu/event/mc3-band-fall-concert/
LOCATION:CCA – Ronald and Lynda Nutt Theatre
CATEGORIES:Fine Arts Division
END:VEVENT
BEGIN:VEVENT
DTSTART;TZID=America/New_York:20251108T143000
DTEND;TZID=America/New_York:20251108T170000
DTSTAMP:20260421T101913
CREATED:20250821T152152Z
LAST-MODIFIED:20251105T201531Z
UID:10001006-1762612200-1762621200@www.maryvillecollege.edu
SUMMARY:Choir Festival Concert
DESCRIPTION:The Invitational Choir Festival Concert is an annual event hosted by the Maryville College Concert Choir in which high school and college choral ensembles from the region are invited to perform together. The festival also includes performances by Off Kilter\, Lads and Lassies. The concert takes place on Saturday\, November 8th at 2:30 p.m. in the Clayton Center for the Arts’ Ronald & Lynda Nutt Theatre.\nTickets are $12.50 plus tax for general admission. Free for MC faculty\, staff\, and students\, although a printed ticket from the Clayton Center box office is required for admission. For more information\, call the box office at 865-981-8590.
URL:https://www.maryvillecollege.edu/event/choir-festival-concert/
LOCATION:CCA – Ronald and Lynda Nutt Theatre
CATEGORIES:Fine Arts Division
END:VEVENT
END:VCALENDAR