BEGIN:VCALENDAR
VERSION:2.0
PRODID:-//Maryville College - ECPv6.15.20//NONSGML v1.0//EN
CALSCALE:GREGORIAN
METHOD:PUBLISH
X-WR-CALNAME:Maryville College
X-ORIGINAL-URL:https://www.maryvillecollege.edu
X-WR-CALDESC:Events for Maryville College
REFRESH-INTERVAL;VALUE=DURATION:PT1H
X-Robots-Tag:noindex
X-PUBLISHED-TTL:PT1H
BEGIN:VTIMEZONE
TZID:America/New_York
BEGIN:DAYLIGHT
TZOFFSETFROM:-0500
TZOFFSETTO:-0400
TZNAME:EDT
DTSTART:20240310T070000
END:DAYLIGHT
BEGIN:STANDARD
TZOFFSETFROM:-0400
TZOFFSETTO:-0500
TZNAME:EST
DTSTART:20241103T060000
END:STANDARD
BEGIN:DAYLIGHT
TZOFFSETFROM:-0500
TZOFFSETTO:-0400
TZNAME:EDT
DTSTART:20250309T070000
END:DAYLIGHT
BEGIN:STANDARD
TZOFFSETFROM:-0400
TZOFFSETTO:-0500
TZNAME:EST
DTSTART:20251102T060000
END:STANDARD
BEGIN:DAYLIGHT
TZOFFSETFROM:-0500
TZOFFSETTO:-0400
TZNAME:EDT
DTSTART:20260308T070000
END:DAYLIGHT
BEGIN:STANDARD
TZOFFSETFROM:-0400
TZOFFSETTO:-0500
TZNAME:EST
DTSTART:20261101T060000
END:STANDARD
BEGIN:DAYLIGHT
TZOFFSETFROM:-0500
TZOFFSETTO:-0400
TZNAME:EDT
DTSTART:20270314T070000
END:DAYLIGHT
BEGIN:STANDARD
TZOFFSETFROM:-0400
TZOFFSETTO:-0500
TZNAME:EST
DTSTART:20271107T060000
END:STANDARD
END:VTIMEZONE
BEGIN:VEVENT
DTSTART;TZID=America/New_York:20260422T160000
DTEND;TZID=America/New_York:20260422T180000
DTSTAMP:20260424T170019
CREATED:20260218T213025Z
LAST-MODIFIED:20260422T214520Z
UID:10001821-1776873600-1776880800@www.maryvillecollege.edu
SUMMARY:Camp - 4
DESCRIPTION:Come play with Mountain Challenge: Open tower\, music\, and fun at Crawford House
URL:https://www.maryvillecollege.edu/event/camp-4-24/
LOCATION:Crawford House\, 713 Howee Ave.\, Maryville\, TN\, 37804\, United States
CATEGORIES:Mtn. Challenge / Fit.Green.Happy.
END:VEVENT
BEGIN:VEVENT
DTSTART;TZID=America/New_York:20260415T160000
DTEND;TZID=America/New_York:20260415T180000
DTSTAMP:20260424T170019
CREATED:20260218T213024Z
LAST-MODIFIED:20260415T214626Z
UID:10001819-1776268800-1776276000@www.maryvillecollege.edu
SUMMARY:Camp - 4
DESCRIPTION:Come play with Mountain Challenge: Open tower\, music\, and fun at Crawford House
URL:https://www.maryvillecollege.edu/event/camp-4-23/
LOCATION:Crawford House\, 713 Howee Ave.\, Maryville\, TN\, 37804\, United States
CATEGORIES:Mtn. Challenge / Fit.Green.Happy.
END:VEVENT
BEGIN:VEVENT
DTSTART;TZID=America/New_York:20260408T160000
DTEND;TZID=America/New_York:20260408T180000
DTSTAMP:20260424T170019
CREATED:20260218T213023Z
LAST-MODIFIED:20260401T213133Z
UID:10001817-1775664000-1775671200@www.maryvillecollege.edu
SUMMARY:Camp - 4
DESCRIPTION:Come play with Mountain Challenge: Open tower\, music\, and fun at Crawford House
URL:https://www.maryvillecollege.edu/event/camp-4-22/
LOCATION:Crawford House\, 713 Howee Ave.\, Maryville\, TN\, 37804\, United States
CATEGORIES:Mtn. Challenge / Fit.Green.Happy.
END:VEVENT
BEGIN:VEVENT
DTSTART;TZID=America/New_York:20260401T160000
DTEND;TZID=America/New_York:20260401T180000
DTSTAMP:20260424T170019
CREATED:20260218T213022Z
LAST-MODIFIED:20260401T213130Z
UID:10001816-1775059200-1775066400@www.maryvillecollege.edu
SUMMARY:Camp - 4
DESCRIPTION:Come play with Mountain Challenge: Open tower\, music\, and fun at Crawford House
URL:https://www.maryvillecollege.edu/event/camp-4-21/
LOCATION:Crawford House\, 713 Howee Ave.\, Maryville\, TN\, 37804\, United States
CATEGORIES:Mtn. Challenge / Fit.Green.Happy.
END:VEVENT
BEGIN:VEVENT
DTSTART;TZID=America/New_York:20260325T160000
DTEND;TZID=America/New_York:20260325T180000
DTSTAMP:20260424T170019
CREATED:20260218T213019Z
LAST-MODIFIED:20260325T213026Z
UID:10001813-1774454400-1774461600@www.maryvillecollege.edu
SUMMARY:Camp - 4
DESCRIPTION:Come play with Mountain Challenge: Open tower\, music\, and fun at Crawford House
URL:https://www.maryvillecollege.edu/event/camp-4-20/
LOCATION:Crawford House\, 713 Howee Ave.\, Maryville\, TN\, 37804\, United States
CATEGORIES:Mtn. Challenge / Fit.Green.Happy.
END:VEVENT
BEGIN:VEVENT
DTSTART;TZID=America/New_York:20260318T160000
DTEND;TZID=America/New_York:20260318T180000
DTSTAMP:20260424T170019
CREATED:20260218T213018Z
LAST-MODIFIED:20260318T213046Z
UID:10001812-1773849600-1773856800@www.maryvillecollege.edu
SUMMARY:Camp - 4
DESCRIPTION:Come play with Mountain Challenge: Open tower\, music\, and fun at Crawford House
URL:https://www.maryvillecollege.edu/event/camp-4-19/
LOCATION:Crawford House\, 713 Howee Ave.\, Maryville\, TN\, 37804\, United States
CATEGORIES:Mtn. Challenge / Fit.Green.Happy.
END:VEVENT
BEGIN:VEVENT
DTSTART;TZID=America/New_York:20260311T160000
DTEND;TZID=America/New_York:20260311T180000
DTSTAMP:20260424T170019
CREATED:20260218T213018Z
LAST-MODIFIED:20260311T213039Z
UID:10001811-1773244800-1773252000@www.maryvillecollege.edu
SUMMARY:Camp - 4
DESCRIPTION:Come play with Mountain Challenge: Open tower\, music\, and fun at Crawford House
URL:https://www.maryvillecollege.edu/event/camp-4-18/
LOCATION:Crawford House\, 713 Howee Ave.\, Maryville\, TN\, 37804\, United States
CATEGORIES:Mtn. Challenge / Fit.Green.Happy.
END:VEVENT
BEGIN:VEVENT
DTSTART;TZID=America/New_York:20260304T160000
DTEND;TZID=America/New_York:20260304T180000
DTSTAMP:20260424T170019
CREATED:20260218T213016Z
LAST-MODIFIED:20260304T213035Z
UID:10001808-1772640000-1772647200@www.maryvillecollege.edu
SUMMARY:Camp - 4
DESCRIPTION:Come play with Mountain Challenge: Open tower\, music\, and fun at Crawford House
URL:https://www.maryvillecollege.edu/event/camp-4-15/
LOCATION:Crawford House\, 713 Howee Ave.\, Maryville\, TN\, 37804\, United States
CATEGORIES:Mtn. Challenge / Fit.Green.Happy.
END:VEVENT
BEGIN:VEVENT
DTSTART;TZID=America/New_York:20260225T160000
DTEND;TZID=America/New_York:20260225T180000
DTSTAMP:20260424T170019
CREATED:20260218T213015Z
LAST-MODIFIED:20260225T213046Z
UID:10001806-1772035200-1772042400@www.maryvillecollege.edu
SUMMARY:Camp - 4
DESCRIPTION:Come play with Mountain Challenge: Open tower\, music\, and fun at Crawford House
URL:https://www.maryvillecollege.edu/event/camp-4-14/
LOCATION:Crawford House\, 713 Howee Ave.\, Maryville\, TN\, 37804\, United States
CATEGORIES:Mtn. Challenge / Fit.Green.Happy.
END:VEVENT
BEGIN:VEVENT
DTSTART;TZID=America/New_York:20260218T160000
DTEND;TZID=America/New_York:20260218T180000
DTSTAMP:20260424T170019
CREATED:20260218T213012Z
LAST-MODIFIED:20260218T213012Z
UID:10001803-1771430400-1771437600@www.maryvillecollege.edu
SUMMARY:Camp - 4
DESCRIPTION:Come play with Mountain Challenge: Open tower\, music\, and fun at Crawford House
URL:https://www.maryvillecollege.edu/event/camp-4-12/
LOCATION:Crawford House\, 713 Howee Ave.\, Maryville\, TN\, 37804\, United States
CATEGORIES:Mtn. Challenge / Fit.Green.Happy.
END:VEVENT
BEGIN:VEVENT
DTSTART;TZID=America/New_York:20251011T100000
DTEND;TZID=America/New_York:20251011T120000
DTSTAMP:20260424T170019
CREATED:20251002T203021Z
LAST-MODIFIED:20251009T203027Z
UID:10001353-1760176800-1760184000@www.maryvillecollege.edu
SUMMARY:Homecoming Tower
DESCRIPTION:Alumni\, staff\, and current students welcome to climb.
URL:https://www.maryvillecollege.edu/event/homecoming-tower/
LOCATION:Crawford House\, 713 Howee Ave.\, Maryville\, TN\, 37804\, United States
CATEGORIES:Mtn. Challenge / Fit.Green.Happy.
END:VEVENT
BEGIN:VEVENT
DTSTART;TZID=America/New_York:20251008T140000
DTEND;TZID=America/New_York:20251008T190000
DTSTAMP:20260424T170019
CREATED:20250918T204956Z
LAST-MODIFIED:20250918T204956Z
UID:10001323-1759932000-1759950000@www.maryvillecollege.edu
SUMMARY:Knoxville Vintage Market @ MC
DESCRIPTION:The Knoxville Vintage Market is back for a Homecoming edition! In partnership with Fit.Green.Happy. and Camp4\, stop by the Crawford House to shop local vintage vendors and try your alpine tower climbing skills.
URL:https://www.maryvillecollege.edu/event/knoxville-vintage-market-homecoming/
LOCATION:Crawford House\, 713 Howee Ave.\, Maryville\, TN\, 37804\, United States
CATEGORIES:Alumni Office,Community Event,Homecoming,Mtn. Challenge / Fit.Green.Happy.
ATTACH;FMTTYPE=image/jpeg:https://www.maryvillecollege.edu/wp-content/uploads/Alumni/Homecoming/2025/Vintage-Market-Oct-8.jpg
END:VEVENT
END:VCALENDAR