BEGIN:VCALENDAR
VERSION:2.0
PRODID:-//Maryville College - ECPv6.15.20//NONSGML v1.0//EN
CALSCALE:GREGORIAN
METHOD:PUBLISH
X-WR-CALNAME:Maryville College
X-ORIGINAL-URL:https://www.maryvillecollege.edu
X-WR-CALDESC:Events for Maryville College
REFRESH-INTERVAL;VALUE=DURATION:PT1H
X-Robots-Tag:noindex
X-PUBLISHED-TTL:PT1H
BEGIN:VTIMEZONE
TZID:America/New_York
BEGIN:DAYLIGHT
TZOFFSETFROM:-0500
TZOFFSETTO:-0400
TZNAME:EDT
DTSTART:20240310T070000
END:DAYLIGHT
BEGIN:STANDARD
TZOFFSETFROM:-0400
TZOFFSETTO:-0500
TZNAME:EST
DTSTART:20241103T060000
END:STANDARD
BEGIN:DAYLIGHT
TZOFFSETFROM:-0500
TZOFFSETTO:-0400
TZNAME:EDT
DTSTART:20250309T070000
END:DAYLIGHT
BEGIN:STANDARD
TZOFFSETFROM:-0400
TZOFFSETTO:-0500
TZNAME:EST
DTSTART:20251102T060000
END:STANDARD
BEGIN:DAYLIGHT
TZOFFSETFROM:-0500
TZOFFSETTO:-0400
TZNAME:EDT
DTSTART:20260308T070000
END:DAYLIGHT
BEGIN:STANDARD
TZOFFSETFROM:-0400
TZOFFSETTO:-0500
TZNAME:EST
DTSTART:20261101T060000
END:STANDARD
BEGIN:DAYLIGHT
TZOFFSETFROM:-0500
TZOFFSETTO:-0400
TZNAME:EDT
DTSTART:20270314T070000
END:DAYLIGHT
BEGIN:STANDARD
TZOFFSETFROM:-0400
TZOFFSETTO:-0500
TZNAME:EST
DTSTART:20271107T060000
END:STANDARD
END:VTIMEZONE
BEGIN:VEVENT
DTSTART;TZID=America/New_York:20260411T083000
DTEND;TZID=America/New_York:20260411T130000
DTSTAMP:20260421T233056
CREATED:20251028T153218Z
LAST-MODIFIED:20260313T143710Z
UID:10001384-1775896200-1775912400@www.maryvillecollege.edu
SUMMARY:KT Weekend
DESCRIPTION:The annual KT Weekend event brings together students and alumni in service of our campus! Projects could include painting\, light carpentry\, trash pickup & invasive species removal in the College Woods\, and other similar improvements to make a positive environmental impact. \nAfter all the work is done\, the day will end with an afternoon celebration and lunch around 12:00pm. \nSign up!
URL:https://www.maryvillecollege.edu/event/kt-weekend-2026/
LOCATION:McArthur Pavilion\, 502 E. Lamar Alexander Pkwy\, Maryville\, TN\, 37804\, United States
CATEGORIES:Activities, Clubs, and Orgs,Alumni Office,Community Engagement,KT Global
ATTACH;FMTTYPE=image/jpeg:https://www.maryvillecollege.edu/wp-content/uploads/Alumni/Events/2025/KT-Weekend.jpg
END:VEVENT
BEGIN:VEVENT
DTSTART;TZID=America/New_York:20250823T110000
DTEND;TZID=America/New_York:20250823T130000
DTSTAMP:20260421T233057
CREATED:20250821T174000Z
LAST-MODIFIED:20250821T183454Z
UID:10001035-1755946800-1755954000@www.maryvillecollege.edu
SUMMARY:BCAA Summer Picnic
DESCRIPTION:The Blount County Alumni Association annual Summer Picnic is a family-friendly weekend cookout that is also an opportunity to welcome the newest MC alumni to our community. Round up your family of Scots (“honorary” counts!) and join the BCAA board of directors for food\, games\, fun and fellowship.
URL:https://www.maryvillecollege.edu/event/bcaa-summer-picnic/
LOCATION:McArthur Pavilion\, 502 E. Lamar Alexander Pkwy\, Maryville\, TN\, 37804\, United States
CATEGORIES:Alumni Office
ATTACH;FMTTYPE=image/png:https://www.maryvillecollege.edu/wp-content/uploads/Alumni/Events/2025/BCAA-picnic-2025-1.png
END:VEVENT
END:VCALENDAR