BEGIN:VCALENDAR
VERSION:2.0
PRODID:-//Maryville College - ECPv6.15.20//NONSGML v1.0//EN
CALSCALE:GREGORIAN
METHOD:PUBLISH
X-WR-CALNAME:Maryville College
X-ORIGINAL-URL:https://www.maryvillecollege.edu
X-WR-CALDESC:Events for Maryville College
REFRESH-INTERVAL;VALUE=DURATION:PT1H
X-Robots-Tag:noindex
X-PUBLISHED-TTL:PT1H
BEGIN:VTIMEZONE
TZID:America/New_York
BEGIN:DAYLIGHT
TZOFFSETFROM:-0500
TZOFFSETTO:-0400
TZNAME:EDT
DTSTART:20240310T070000
END:DAYLIGHT
BEGIN:STANDARD
TZOFFSETFROM:-0400
TZOFFSETTO:-0500
TZNAME:EST
DTSTART:20241103T060000
END:STANDARD
BEGIN:DAYLIGHT
TZOFFSETFROM:-0500
TZOFFSETTO:-0400
TZNAME:EDT
DTSTART:20250309T070000
END:DAYLIGHT
BEGIN:STANDARD
TZOFFSETFROM:-0400
TZOFFSETTO:-0500
TZNAME:EST
DTSTART:20251102T060000
END:STANDARD
BEGIN:DAYLIGHT
TZOFFSETFROM:-0500
TZOFFSETTO:-0400
TZNAME:EDT
DTSTART:20260308T070000
END:DAYLIGHT
BEGIN:STANDARD
TZOFFSETFROM:-0400
TZOFFSETTO:-0500
TZNAME:EST
DTSTART:20261101T060000
END:STANDARD
BEGIN:DAYLIGHT
TZOFFSETFROM:-0500
TZOFFSETTO:-0400
TZNAME:EDT
DTSTART:20270314T070000
END:DAYLIGHT
BEGIN:STANDARD
TZOFFSETFROM:-0400
TZOFFSETTO:-0500
TZNAME:EST
DTSTART:20271107T060000
END:STANDARD
END:VTIMEZONE
BEGIN:VEVENT
DTSTART;TZID=America/New_York:20260324T123000
DTEND;TZID=America/New_York:20260324T133000
DTSTAMP:20260425T115528
CREATED:20260113T021518Z
LAST-MODIFIED:20260324T021533Z
UID:10001651-1774355400-1774359000@www.maryvillecollege.edu
SUMMARY:STEM Seminar Series: Dr. Christine Kohnen
DESCRIPTION:
URL:https://www.maryvillecollege.edu/event/stem-seminar-series-dr-christine-kohnen/
LOCATION:Proffitt Dining Room (PDR)
CATEGORIES:STEM Success
END:VEVENT
BEGIN:VEVENT
DTSTART;TZID=America/New_York:20260224T123000
DTEND;TZID=America/New_York:20260224T133000
DTSTAMP:20260425T115528
CREATED:20260113T021517Z
LAST-MODIFIED:20260224T021521Z
UID:10001649-1771936200-1771939800@www.maryvillecollege.edu
SUMMARY:STEM Seminar Series: Steven Brooks (SL Tennessee)
DESCRIPTION:
URL:https://www.maryvillecollege.edu/event/stem-seminar-series-steven-brooks-sl-tennessee/
LOCATION:Proffitt Dining Room (PDR)
CATEGORIES:STEM Success
END:VEVENT
BEGIN:VEVENT
DTSTART;TZID=America/New_York:20260217T123000
DTEND;TZID=America/New_York:20260217T133000
DTSTAMP:20260425T115528
CREATED:20260113T021517Z
LAST-MODIFIED:20260217T021517Z
UID:10001648-1771331400-1771335000@www.maryvillecollege.edu
SUMMARY:STEM Seminar Series: Dr. Eva Zarkadoula
DESCRIPTION:
URL:https://www.maryvillecollege.edu/event/stem-seminar-series-dr-eva-zarkadoula/
LOCATION:Proffitt Dining Room (PDR)
CATEGORIES:STEM Success
END:VEVENT
BEGIN:VEVENT
DTSTART;TZID=America/New_York:20260127T123000
DTEND;TZID=America/New_York:20260127T133000
DTSTAMP:20260425T115528
CREATED:20260113T021516Z
LAST-MODIFIED:20260127T021534Z
UID:10001647-1769517000-1769520600@www.maryvillecollege.edu
SUMMARY:CANCELED: STEM Seminar Series: What I Did Last Summer
DESCRIPTION:
URL:https://www.maryvillecollege.edu/event/stem-seminar-series-what-i-did-last-summer/
LOCATION:Proffitt Dining Room (PDR)
CATEGORIES:STEM Success
END:VEVENT
BEGIN:VEVENT
DTSTART;TZID=America/New_York:20251118T123000
DTEND;TZID=America/New_York:20251118T132500
DTSTAMP:20260425T115528
CREATED:20250908T180858Z
LAST-MODIFIED:20251118T020016Z
UID:10001230-1763469000-1763472300@www.maryvillecollege.edu
SUMMARY:STEM Event Series: Dr. Eva Zarkadoula
DESCRIPTION:
URL:https://www.maryvillecollege.edu/event/guest-speaker-dr-eva-zarkadoula/
LOCATION:Proffitt Dining Room (PDR)
CATEGORIES:STEM Success
END:VEVENT
BEGIN:VEVENT
DTSTART;TZID=America/New_York:20250923T123000
DTEND;TZID=America/New_York:20250923T132500
DTSTAMP:20260425T115528
CREATED:20250909T013130Z
LAST-MODIFIED:20250923T020014Z
UID:10001232-1758630600-1758633900@www.maryvillecollege.edu
SUMMARY:STEM Event Series: Dr. Bethany Campbell
DESCRIPTION:“Spatiotemporal regulation of Cdc42 activity directs specific membrane trafficking events at distinct cell sites”
URL:https://www.maryvillecollege.edu/event/stem-event-series-dr-bethany-campbell/
LOCATION:Proffitt Dining Room (PDR)
CATEGORIES:STEM Success
END:VEVENT
END:VCALENDAR