BEGIN:VCALENDAR
VERSION:2.0
PRODID:-//Maryville College - ECPv6.15.20//NONSGML v1.0//EN
CALSCALE:GREGORIAN
METHOD:PUBLISH
X-WR-CALNAME:Maryville College
X-ORIGINAL-URL:https://www.maryvillecollege.edu
X-WR-CALDESC:Events for Maryville College
REFRESH-INTERVAL;VALUE=DURATION:PT1H
X-Robots-Tag:noindex
X-PUBLISHED-TTL:PT1H
BEGIN:VTIMEZONE
TZID:America/New_York
BEGIN:DAYLIGHT
TZOFFSETFROM:-0500
TZOFFSETTO:-0400
TZNAME:EDT
DTSTART:20240310T070000
END:DAYLIGHT
BEGIN:STANDARD
TZOFFSETFROM:-0400
TZOFFSETTO:-0500
TZNAME:EST
DTSTART:20241103T060000
END:STANDARD
BEGIN:DAYLIGHT
TZOFFSETFROM:-0500
TZOFFSETTO:-0400
TZNAME:EDT
DTSTART:20250309T070000
END:DAYLIGHT
BEGIN:STANDARD
TZOFFSETFROM:-0400
TZOFFSETTO:-0500
TZNAME:EST
DTSTART:20251102T060000
END:STANDARD
BEGIN:DAYLIGHT
TZOFFSETFROM:-0500
TZOFFSETTO:-0400
TZNAME:EDT
DTSTART:20260308T070000
END:DAYLIGHT
BEGIN:STANDARD
TZOFFSETFROM:-0400
TZOFFSETTO:-0500
TZNAME:EST
DTSTART:20261101T060000
END:STANDARD
BEGIN:DAYLIGHT
TZOFFSETFROM:-0500
TZOFFSETTO:-0400
TZNAME:EDT
DTSTART:20270314T070000
END:DAYLIGHT
BEGIN:STANDARD
TZOFFSETFROM:-0400
TZOFFSETTO:-0500
TZNAME:EST
DTSTART:20271107T060000
END:STANDARD
END:VTIMEZONE
BEGIN:VEVENT
DTSTART;TZID=America/New_York:20260325T100000
DTEND;TZID=America/New_York:20260325T110000
DTSTAMP:20260425T104016
CREATED:20260212T162911Z
LAST-MODIFIED:20260212T162911Z
UID:10001800-1774432800-1774436400@www.maryvillecollege.edu
SUMMARY:MC Senior Networking Event
DESCRIPTION:Hosted by the MC Alumni Office and Blount County Young Professionals\, MC Seniors are invited to join with local young alumni and young professionals for a coffee networking event prior to the Career Center’s Spring Opportunities Fair. \nThe event begins at 10:00 am at Vienna Coffee @ MC and will be a great opportunity to meet make connections\, polish networking skills\, and start building your own professional network. At 11:00 am\, head over to the Opportunities Fair in the CCA Foyer to continue finding opportunities to connect with businesses and organizations. \nPlease RSVP your attendance below.
URL:https://www.maryvillecollege.edu/event/mc-senior-networking-event/
LOCATION:Vienna Coffee at MC\, 502 E. Lamar Alexander Pkwy\, Maryville\, TN\, 37804\, United States
END:VEVENT
BEGIN:VEVENT
DTSTART;TZID=America/New_York:20260325T100000
DTEND;TZID=America/New_York:20260325T110000
DTSTAMP:20260425T104016
CREATED:20260212T161242Z
LAST-MODIFIED:20260303T202336Z
UID:10001799-1774432800-1774436400@www.maryvillecollege.edu
SUMMARY:Young Alumni & BCYP Coffee Networking
DESCRIPTION:Hosted by the MC Alumni Office and Blount County Young Professionals\, local MC young alumni (ages 21-40) are invited to join with MC Seniors for a coffee networking event prior to the Career Center’s Spring Opportunities Fair. Grab a coffee\, share your post-grad wisdom\, and help these students polish their networking skills before they meet with recruiters at the Fair. \nThis is a great opportunity to support the next generation of Scots\, expand your own network of young professionals in the area\, and check out the new Vienna Coffee location on our campus. \nFree drip coffee and snacks will be available. Other beverages available for purchase. \nPlease RSVP your attendance below.
URL:https://www.maryvillecollege.edu/event/young-alumni-bcyp-coffee-networking/
LOCATION:Vienna Coffee at MC\, 502 E. Lamar Alexander Pkwy\, Maryville\, TN\, 37804\, United States
CATEGORIES:Alumni Office,Community Event
ATTACH;FMTTYPE=image/png:https://www.maryvillecollege.edu/wp-content/uploads/Alumni/Events/2026/BCYP-graphic-crop.png
END:VEVENT
BEGIN:VEVENT
DTSTART;TZID=America/New_York:20260219T080000
DTEND;TZID=America/New_York:20260219T090000
DTSTAMP:20260425T104016
CREATED:20260115T210059Z
LAST-MODIFIED:20260115T210325Z
UID:10001657-1771488000-1771491600@www.maryvillecollege.edu
SUMMARY:Alumni Coffee Pop-Up
DESCRIPTION:A new event series kicking off in 2026 with the Blount County Alumni Association\, join fellow Scots for a quarterly alumni takeover of Vienna Coffee Co at Maryville College. \nThe first Alumni Coffee is at 8 a.m. on Thursday\, February 19. Drip coffee will be made available for all thanks to the event sponsor\, Vienna Coffee Co at Maryville College. All other beverages and purchases will be self-pay. \n  \nThanks to our sponsor for making this event possible:
URL:https://www.maryvillecollege.edu/event/february-alumni-coffee/
LOCATION:Vienna Coffee at MC\, 502 E. Lamar Alexander Pkwy\, Maryville\, TN\, 37804\, United States
CATEGORIES:Alumni Office
ATTACH;FMTTYPE=image/png:https://www.maryvillecollege.edu/wp-content/uploads/Alumni/Events/2026/Alumni-Coffee-Feb-IG.png
ORGANIZER;CN="Blount County Alumni Association":MAILTO:blountcountyalumni@maryvillecollege.edu
END:VEVENT
BEGIN:VEVENT
DTSTART;TZID=America/New_York:20251105T143000
DTEND;TZID=America/New_York:20251105T153000
DTSTAMP:20260425T104016
CREATED:20250821T173604Z
LAST-MODIFIED:20250828T204412Z
UID:10001032-1762353000-1762356600@www.maryvillecollege.edu
SUMMARY:Alumni Recruiter Reception
DESCRIPTION:The Maryville College Career Center annual Career & Internship Fair welcomes employers to connect with MC students at the Clayton Center for the Arts. Following the event\, alumni recruiters and employers present are invited to a networking reception at the Vienna Coffee Maryville College location. Let us fuel the rest of your day with coffee and pastries! \nLearn more about the Fair and sign up now. Indicate on the sign up that you or a colleague is an alum to receive more information.
URL:https://www.maryvillecollege.edu/event/alumni-recruiter-reception/
LOCATION:Vienna Coffee at MC\, 502 E. Lamar Alexander Pkwy\, Maryville\, TN\, 37804\, United States
CATEGORIES:Alumni Office
END:VEVENT
END:VCALENDAR